BEGIN:VCALENDAR
VERSION:2.0
PRODID:-//Events | FID-Recht//NONSGML Events//EN
CALSCALE:GREGORIAN
X-ORIGINAL-URL:https://events.intrecht.de/termine/
X-WR-CALDESC:Events | FID-Recht - Events
BEGIN:VEVENT
UID:20211220T1130Z-1639999840.9154-EO-4237-1@172.16.200.141
STATUS:CONFIRMED
DTSTAMP:20260421T151457Z
CREATED:20211216T131440Z
LAST-MODIFIED:20220127T191017Z
DTSTART;VALUE=DATE:20220216
DTEND;VALUE=DATE:20220217
SUMMARY: VERSCHOBEN: Schule von Salamanca – Rechtshistorische Fragen und Me
 thoden (Online-Tagung)
DESCRIPTION: 16.2.2022\, Online – NEUER TERMIN: wird noch bekannt gegeben S
 eminar Methods of Legal History | Max Planck Institute for Legal History an
 d Legal Theory (mpg.de)  
X-ALT-DESC;FMTTYPE=text/html: <p>16.2.2022\, Online – NEUER TERMIN: wird no
 ch bekannt gegeben</p><p><a href="https://www.lhlt.mpg.de/2583211/event-22-
 02-16-methods-legal-history.html">Seminar Methods of Legal History | Max Pl
 anck Institute for Legal History and Legal Theory (mpg.de)</a></p><p> </p><
 p>[av_button label='iCal-Export' link='./feed/eo-events' link_target='' siz
 e='small' position='center' label_display='' title_attr='' icon_select='yes
 ' icon='ue85b' font='entypo-fontello' color='custom' custom_bg='#b5123e' cu
 stom_font='#ffffff' av_uid='' id='' custom_class='' admin_preview_bg='']</p
 >
CATEGORIES:Recht interdisziplinär
LOCATION:Online
GEO:0.000000;0.000000
ORGANIZER;CN="ViFa-Recht":MAILTO:vifa-recht@sbb.spk-berlin.de
URL;VALUE=URI:https://events.intrecht.de/termine/termin/schule-von-salamanc
 a-rechtshistorische-fragen-und-methoden-online-tagung/
END:VEVENT
BEGIN:VTIMEZONE
TZID:Europe/Berlin
BEGIN:STANDARD
TZOFFSETFROM:+0200
TZOFFSETTO:+0100
DTSTART:20211031T010000
TZNAME:CET
END:STANDARD
END:VTIMEZONE
END:VCALENDAR
