BEGIN:VCALENDAR
VERSION:2.0
PRODID:-//Events | FID-Recht//NONSGML Events//EN
CALSCALE:GREGORIAN
X-ORIGINAL-URL:https://events.intrecht.de/termine/
X-WR-CALDESC:Events | FID-Recht - Events
BEGIN:VEVENT
UID:20200603T1418Z-1591193923.3362-EO-587-1@172.16.200.141
STATUS:CONFIRMED
DTSTAMP:20260425T183112Z
CREATED:20240325T110157Z
LAST-MODIFIED:20240325T110157Z
DTSTART;VALUE=DATE:20240409
DTEND;VALUE=DATE:20240410
SUMMARY: Schnittstellen zwischen Migrationsrecht und Internationalem Famili
 enrecht (Virtueller Workshop / Aktuelle Forschung im Internationalen Privat
 recht)
DESCRIPTION: 9.4.2024 / Online https://events.mpipriv.de/ipr_workshop_mit_b
 ettina_heiderhoff_09_04_2024
X-ALT-DESC;FMTTYPE=text/html: <p>9.4.2024 / Online</p><p><a href="https://e
 vents.mpipriv.de/ipr_workshop_mit_bettina_heiderhoff_09_04_2024">https://ev
 ents.mpipriv.de/ipr_workshop_mit_bettina_heiderhoff_09_04_2024</a></p><p>[a
 v_button label='iCal-Export' link='./feed/eo-events' link_target='' size='s
 mall' position='center' label_display='' title_attr='' icon_select='yes' ic
 on='ue85b' font='entypo-fontello' color='custom' custom_bg='#b5123e' custom
 _font='#ffffff' av_uid='' id='' custom_class='' admin_preview_bg='']</p>
CATEGORIES:Zivilrecht
LOCATION:Online
GEO:0.000000;0.000000
ORGANIZER;CN="ViFa-Recht":MAILTO:vifa-recht@sbb.spk-berlin.de
URL;VALUE=URI:https://events.intrecht.de/termine/termin/schnittstellen-zwis
 chen-migrationsrecht-und-internationalem-familienrecht-virtueller-workshop-
 aktuelle-forschung-im-internationalen-privatrecht/
END:VEVENT
BEGIN:VTIMEZONE
TZID:Europe/Berlin
BEGIN:DAYLIGHT
TZOFFSETFROM:+0100
TZOFFSETTO:+0200
DTSTART:20240331T010000
TZNAME:CEST
END:DAYLIGHT
END:VTIMEZONE
END:VCALENDAR
