BEGIN:VCALENDAR
VERSION:2.0
PRODID:-//Events | FID-Recht//NONSGML Events//EN
CALSCALE:GREGORIAN
X-ORIGINAL-URL:https://events.intrecht.de/termine/
X-WR-CALDESC:Events | FID-Recht - Events
BEGIN:VEVENT
UID:20220318T1752Z-1647625960.8749-EO-4256-1@172.16.200.141
STATUS:CONFIRMED
DTSTAMP:20260421T102820Z
CREATED:20220221T163318Z
LAST-MODIFIED:20220221T163318Z
DTSTART;VALUE=DATE:20220303
DTEND;VALUE=DATE:20220304
SUMMARY: Saving Football from Itself – Why and How to Re-Make EU Sports Law
  (with Stephen Weatherill) ((Online-)Vortrag)
DESCRIPTION: 3.3.2022\, Cambridge/Online Webinar-Registrierung – Zoom  
X-ALT-DESC;FMTTYPE=text/html: <p>3.3.2022\, Cambridge/Online</p><p><a href=
 "https://cam-ac-uk.zoom.us/webinar/register/WN_yefbMjMPRym8jFExhfoIrw">Webi
 nar-Registrierung - Zoom</a></p><p> </p><p>[av_button label='iCal-Export' l
 ink='./feed/eo-events' link_target='' size='small' position='center' label_
 display='' title_attr='' icon_select='yes' icon='ue85b' font='entypo-fontel
 lo' color='custom' custom_bg='#b5123e' custom_font='#ffffff' av_uid='' id='
 ' custom_class='' admin_preview_bg='']</p>
CATEGORIES:Europäisches / Internationales Recht
LOCATION:Online
GEO:0.000000;0.000000
ORGANIZER;CN="ViFa-Recht":MAILTO:vifa-recht@sbb.spk-berlin.de
URL;VALUE=URI:https://events.intrecht.de/termine/termin/saving-football-fro
 m-itself-why-and-how-to-re-make-eu-sports-law-with-stephen-weatherill-onlin
 e-vortrag/
END:VEVENT
BEGIN:VTIMEZONE
TZID:Europe/Berlin
BEGIN:STANDARD
TZOFFSETFROM:+0200
TZOFFSETTO:+0100
DTSTART:20211031T010000
TZNAME:CET
END:STANDARD
END:VTIMEZONE
END:VCALENDAR
