BEGIN:VCALENDAR
VERSION:2.0
PRODID:-//Events | FID-Recht//NONSGML Events//EN
CALSCALE:GREGORIAN
X-ORIGINAL-URL:https://events.intrecht.de/termine/
X-WR-CALDESC:Events | FID-Recht - Events
BEGIN:VEVENT
UID:20210917T2014Z-1631909690.3084-EO-4718-1@172.16.200.141
STATUS:CONFIRMED
DTSTAMP:20260423T040907Z
CREATED:20210914T175716Z
LAST-MODIFIED:20210914T175716Z
DTSTART;VALUE=DATE:20210915
DTEND;VALUE=DATE:20210915
SUMMARY: Sanctions and Africa – An International Law and Politics Conferenc
 e ((Online-)Konferenz) (CfP)
DESCRIPTION: 9.-10.12.2021\, London/Online (Frist für Einreichungen: 15.9.2
 021) CFCI – Sanctions and Africa: An International Law and Politics Confere
 nce (eventsforce.net)    
X-ALT-DESC;FMTTYPE=text/html: <p>9.-10.12.2021\, London/Online (Frist für E
 inreichungen: 15.9.2021)</p><p><a href="https://www.eventsforce.net/cugroup
 /frontend/reg/tOtherPage.csp?pageID=106214&ef_sel_menu=1795&eventID=382">CF
 CI - Sanctions and Africa: An International Law and Politics Conference (ev
 entsforce.net)</a></p><p> </p><p> </p><p>[av_button label='iCal-Export' lin
 k='./feed/eo-events' link_target='' size='small' position='center' label_di
 splay='' title_attr='' icon_select='yes' icon='ue85b' font='entypo-fontello
 ' color='custom' custom_bg='#b5123e' custom_font='#ffffff' av_uid='' id='' 
 custom_class='' admin_preview_bg='']</p>
CATEGORIES:Europäisches / Internationales Recht
LOCATION:Online
GEO:0.000000;0.000000
ORGANIZER;CN="ViFa-Recht":MAILTO:vifa-recht@sbb.spk-berlin.de
URL;VALUE=URI:https://events.intrecht.de/termine/termin/sanctions-and-afric
 a-an-international-law-and-politics-conference-online-konferenz-cfp/
END:VEVENT
BEGIN:VTIMEZONE
TZID:Europe/Berlin
BEGIN:DAYLIGHT
TZOFFSETFROM:+0100
TZOFFSETTO:+0200
DTSTART:20210328T010000
TZNAME:CEST
END:DAYLIGHT
END:VTIMEZONE
END:VCALENDAR
