BEGIN:VCALENDAR
VERSION:2.0
PRODID:-//Events | FID-Recht//NONSGML Events//EN
CALSCALE:GREGORIAN
X-ORIGINAL-URL:https://events.intrecht.de/termine/
X-WR-CALDESC:Events | FID-Recht - Events
BEGIN:VEVENT
UID:20200602T0945Z-1591091115.9737-EO-599-1@172.16.200.141
STATUS:CONFIRMED
DTSTAMP:20260423T052458Z
CREATED:20260210T121252Z
LAST-MODIFIED:20260210T121252Z
DTSTART;VALUE=DATE:20260611
DTEND;VALUE=DATE:20260612
SUMMARY: Safeguarding Human Rights in the Technological Age (Conference)
DESCRIPTION: 11.6.2026 / Rotterdam (Einreichungsfrist: 19.3.2026) https://v
 oelkerrechtsblog.org/de/calls-for-papers/2026-annual-toogdag/
X-ALT-DESC;FMTTYPE=text/html: <p>11.6.2026 / Rotterdam <strong>(Einreichung
 sfrist: 19.3.2026)</strong></p><p><a href="https://voelkerrechtsblog.org/de
 /calls-for-papers/2026-annual-toogdag/">https://voelkerrechtsblog.org/de/ca
 lls-for-papers/2026-annual-toogdag/</a></p><p>[av_button label='iCal-Export
 ' link='./feed/eo-events' link_target='' size='small' position='center' lab
 el_display='' title_attr='' icon_select='yes' icon='ue85b' font='entypo-fon
 tello' color='custom' custom_bg='#b5123e' custom_font='#ffffff' av_uid='' i
 d='' custom_class='' admin_preview_bg='']</p>
CATEGORIES:Europäisches / Internationales Recht
LOCATION:Ausland
GEO:0.000000;0.000000
ORGANIZER;CN="ViFa-Recht":MAILTO:vifa-recht@sbb.spk-berlin.de
URL;VALUE=URI:https://events.intrecht.de/termine/termin/safeguarding-human-
 rights-in-the-technological-age-conference/
END:VEVENT
BEGIN:VTIMEZONE
TZID:Europe/Berlin
BEGIN:DAYLIGHT
TZOFFSETFROM:+0100
TZOFFSETTO:+0200
DTSTART:20260329T010000
TZNAME:CEST
END:DAYLIGHT
END:VTIMEZONE
END:VCALENDAR
