BEGIN:VCALENDAR
VERSION:2.0
PRODID:-//Events | FID-Recht//NONSGML Events//EN
CALSCALE:GREGORIAN
X-ORIGINAL-URL:https://events.intrecht.de/termine/
X-WR-CALDESC:Events | FID-Recht - Events
BEGIN:VEVENT
UID:20200603T1418Z-1591193923.3362-EO-587-1@172.16.200.141
STATUS:CONFIRMED
DTSTAMP:20260422T192614Z
CREATED:20241115T150132Z
LAST-MODIFIED:20241115T150132Z
DTSTART;VALUE=DATE:20241205
DTEND;VALUE=DATE:20241206
SUMMARY: „Safe Access to Asylum in Europe“ und „Die Heimat der Anderen“ (Ge
 meinsamer Book Launch)
DESCRIPTION: 5.12.2024 / Online und Berlin https://www.rewi.hu-berlin.de/de
 /lf/oe/lsi/safe-access-to-asylum-in-europe-und-die-heimat-der-anderen-gemei
 nsamer-book-launch-mit-pauline-endres-de-oliveira-humboldt-universitaet-zu-
 berlin-valentin-feneberg-universitaet-lueneburg
X-ALT-DESC;FMTTYPE=text/html: <p>5.12.2024 / Online und Berlin</p><p><a hre
 f="https://www.rewi.hu-berlin.de/de/lf/oe/lsi/safe-access-to-asylum-in-euro
 pe-und-die-heimat-der-anderen-gemeinsamer-book-launch-mit-pauline-endres-de
 -oliveira-humboldt-universitaet-zu-berlin-valentin-feneberg-universitaet-lu
 eneburg">https://www.rewi.hu-berlin.de/de/lf/oe/lsi/safe-access-to-asylum-i
 n-europe-und-die-heimat-der-anderen-gemeinsamer-book-launch-mit-pauline-end
 res-de-oliveira-humboldt-universitaet-zu-berlin-valentin-feneberg-universit
 aet-lueneburg</a></p><p>[av_button label='iCal-Export' link='./feed/eo-even
 ts' link_target='' size='small' position='center' label_display='' title_at
 tr='' icon_select='yes' icon='ue85b' font='entypo-fontello' color='custom' 
 custom_bg='#b5123e' custom_font='#ffffff' av_uid='' id='' custom_class='' a
 dmin_preview_bg='']</p>
CATEGORIES:Recht interdisziplinär
LOCATION:Hybrid
GEO:0.000000;0.000000
ORGANIZER;CN="ViFa-Recht":MAILTO:vifa-recht@sbb.spk-berlin.de
URL;VALUE=URI:https://events.intrecht.de/termine/termin/safe-access-to-asyl
 um-in-europe-und-die-heimat-der-anderen-gemeinsamer-book-launch/
END:VEVENT
BEGIN:VTIMEZONE
TZID:Europe/Berlin
BEGIN:STANDARD
TZOFFSETFROM:+0200
TZOFFSETTO:+0100
DTSTART:20241027T010000
TZNAME:CET
END:STANDARD
END:VTIMEZONE
END:VCALENDAR
