BEGIN:VCALENDAR
VERSION:2.0
PRODID:-//Events | FID-Recht//NONSGML Events//EN
CALSCALE:GREGORIAN
X-ORIGINAL-URL:https://events.intrecht.de/termine/
X-WR-CALDESC:Events | FID-Recht - Events
BEGIN:VEVENT
UID:20230115T0708Z-1673766487.3967-EO-7860-1@172.16.200.151
STATUS:CONFIRMED
DTSTAMP:20260421T102732Z
CREATED:20230103T094003Z
LAST-MODIFIED:20230103T094109Z
DTSTART;VALUE=DATE:20230109
DTEND;VALUE=DATE:20230110
SUMMARY: Roundtable zum “Böckenförde-Diktum”
DESCRIPTION: 9.1.2023 / Online und Berlin https://www.scripts-berlin.eu/new
 s-events-media/events/2022_Lecture-Series_OH_8.html  
X-ALT-DESC;FMTTYPE=text/html: <p>9.1.2023 / Online und Berlin</p><p><a href
 ="https://www.scripts-berlin.eu/news-events-media/events/2022_Lecture-Serie
 s_OH_8.html">https://www.scripts-berlin.eu/news-events-media/events/2022_Le
 cture-Series_OH_8.html</a></p><p> </p><p>[av_button label='iCal-Export' lin
 k='./feed/eo-events' link_target='' size='small' position='center' label_di
 splay='' title_attr='' icon_select='yes' icon='ue85b' font='entypo-fontello
 ' color='custom' custom_bg='#b5123e' custom_font='#ffffff' av_uid='' id='' 
 custom_class='' admin_preview_bg='']</p>
CATEGORIES:Öffentliches Recht
LOCATION:Online
GEO:0.000000;0.000000
ORGANIZER;CN="ViFa-Recht":MAILTO:vifa-recht@sbb.spk-berlin.de
URL;VALUE=URI:https://events.intrecht.de/termine/termin/roundtable-zum-boec
 kenfoerde-diktum-mit-prof-dr-hedwig-richter-prof-dr-christoph-moellers-ll-m
 -chicago-und-prof-dr-andreas-reckwitz/
END:VEVENT
BEGIN:VTIMEZONE
TZID:Europe/Berlin
BEGIN:STANDARD
TZOFFSETFROM:+0200
TZOFFSETTO:+0100
DTSTART:20221030T010000
TZNAME:CET
END:STANDARD
END:VTIMEZONE
END:VCALENDAR
