BEGIN:VCALENDAR
VERSION:2.0
PRODID:-//Events | FID-Recht//NONSGML Events//EN
CALSCALE:GREGORIAN
X-ORIGINAL-URL:https://events.intrecht.de/termine/
X-WR-CALDESC:Events | FID-Recht - Events
BEGIN:VEVENT
UID:20200603T1418Z-1591193923.3362-EO-587-1@172.16.200.141
STATUS:CONFIRMED
DTSTAMP:20260423T084652Z
CREATED:20250331T160544Z
LAST-MODIFIED:20250331T160544Z
DTSTART;VALUE=DATE:20250515
DTEND;VALUE=DATE:20250517
SUMMARY: Rohstoffe in Krieg und Krise (1. Freiberger Rohstoffrechtstage)
DESCRIPTION: 15.-16.5.2025 / Freiberg https://tu-freiberg.de/sites/default/
 files/2025-03/Rohstoffe%20in%20Krieg%20und%20Krise%20Programm%202025%2003%2
 017.pdf
X-ALT-DESC;FMTTYPE=text/html: <p>15.-16.5.2025 / Freiberg</p><p><a href="ht
 tps://tu-freiberg.de/sites/default/files/2025-03/Rohstoffe%20in%20Krieg%20u
 nd%20Krise%20Programm%202025%2003%2017.pdf">https://tu-freiberg.de/sites/de
 fault/files/2025-03/Rohstoffe%20in%20Krieg%20und%20Krise%20Programm%202025%
 2003%2017.pdf</a></p><p>[av_button label='iCal-Export' link='./feed/eo-even
 ts' link_target='' size='small' position='center' label_display='' title_at
 tr='' icon_select='yes' icon='ue85b' font='entypo-fontello' color='custom' 
 custom_bg='#b5123e' custom_font='#ffffff' av_uid='' id='' custom_class='' a
 dmin_preview_bg='']</p>
CATEGORIES:Recht interdisziplinär
LOCATION:Inland
GEO:0.000000;0.000000
ORGANIZER;CN="ViFa-Recht":MAILTO:vifa-recht@sbb.spk-berlin.de
URL;VALUE=URI:https://events.intrecht.de/termine/termin/rohstoffe-in-krieg-
 und-krise-1-freiberger-rohstoffrechtstage/
END:VEVENT
BEGIN:VTIMEZONE
TZID:Europe/Berlin
BEGIN:DAYLIGHT
TZOFFSETFROM:+0100
TZOFFSETTO:+0200
DTSTART:20250330T010000
TZNAME:CEST
END:DAYLIGHT
END:VTIMEZONE
END:VCALENDAR
