BEGIN:VCALENDAR
VERSION:2.0
PRODID:-//Events | FID-Recht//NONSGML Events//EN
CALSCALE:GREGORIAN
X-ORIGINAL-URL:https://events.intrecht.de/termine/
X-WR-CALDESC:Events | FID-Recht - Events
BEGIN:VEVENT
UID:20200603T1418Z-1591193923.3362-EO-587-1@172.16.200.141
STATUS:CONFIRMED
DTSTAMP:20260425T164733Z
CREATED:20230413T085757Z
LAST-MODIFIED:20230413T085813Z
DTSTART;VALUE=DATE:20230425
DTEND;VALUE=DATE:20230426
SUMMARY: Risks and Opportunities in the European Elections (Webinar)
DESCRIPTION: 25.4.2023 / Online https://us06web.zoom.us/webinar/register/WN
 _AF0IRtHjT1-d-rzYqhgzxg#/registration
X-ALT-DESC;FMTTYPE=text/html: <p>25.4.2023 / Online</p><p><a href="https://
 us06web.zoom.us/webinar/register/WN_AF0IRtHjT1-d-rzYqhgzxg#/registration">h
 ttps://us06web.zoom.us/webinar/register/WN_AF0IRtHjT1-d-rzYqhgzxg#/registra
 tion</a></p><p>[av_button label='iCal-Export' link='./feed/eo-events' link_
 target='' size='small' position='center' label_display='' title_attr='' ico
 n_select='yes' icon='ue85b' font='entypo-fontello' color='custom' custom_bg
 ='#b5123e' custom_font='#ffffff' av_uid='' id='' custom_class='' admin_prev
 iew_bg='']</p>
CATEGORIES:Recht interdisziplinär
LOCATION:Online
GEO:0.000000;0.000000
ORGANIZER;CN="ViFa-Recht":MAILTO:vifa-recht@sbb.spk-berlin.de
URL;VALUE=URI:https://events.intrecht.de/termine/termin/risks-and-opportuni
 ties-in-the-european-elections-webinar/
END:VEVENT
BEGIN:VTIMEZONE
TZID:Europe/Berlin
BEGIN:DAYLIGHT
TZOFFSETFROM:+0100
TZOFFSETTO:+0200
DTSTART:20230326T010000
TZNAME:CEST
END:DAYLIGHT
END:VTIMEZONE
END:VCALENDAR
