BEGIN:VCALENDAR
VERSION:2.0
PRODID:-//Events | FID-Recht//NONSGML Events//EN
CALSCALE:GREGORIAN
X-ORIGINAL-URL:https://events.intrecht.de/termine/
X-WR-CALDESC:Events | FID-Recht - Events
BEGIN:VEVENT
UID:20210314T1726Z-1615742817.1217-EO-3481-1@172.16.200.141
STATUS:CONFIRMED
DTSTAMP:20260421T102659Z
CREATED:20210311T162507Z
LAST-MODIFIED:20210311T162507Z
DTSTART;VALUE=DATE:20210303
DTEND;VALUE=DATE:20210303
RRULE:FREQ=WEEKLY;INTERVAL=1;BYDAY=TH;UNTIL=20210317T230000Z
SUMMARY: Rising Sea Levels – Promoting Climate Justice through Internationa
 l Law (Webinar Series)
DESCRIPTION: 3./11./17./24.3.2021\, Online https://www.biicl.org/events/114
 68/webinar-series-rising-sea-levels-promoting-climate-justice-through-inter
 national-law?cookiesset=1&ts=1615381440  
X-ALT-DESC;FMTTYPE=text/html: <p>3./11./17./24.3.2021\, Online</p><p><a hre
 f="https://www.biicl.org/events/11468/webinar-series-rising-sea-levels-prom
 oting-climate-justice-through-international-law?cookiesset=1&ts=1615381440"
 >https://www.biicl.org/events/11468/webinar-series-rising-sea-levels-promot
 ing-climate-justice-through-international-law?cookiesset=1&ts=1615381440</a
 ></p><p> </p><p>[av_button label='iCal-Export' link='./feed/eo-events' link
 _target='' size='small' position='center' label_display='' title_attr='' ic
 on_select='yes' icon='ue85b' font='entypo-fontello' color='custom' custom_b
 g='#b5123e' custom_font='#ffffff' av_uid='' id='' custom_class='' admin_pre
 view_bg='']</p>
CATEGORIES:Europäisches / Internationales Recht
LOCATION:Online
GEO:0.000000;0.000000
ORGANIZER;CN="ViFa-Recht":MAILTO:vifa-recht@sbb.spk-berlin.de
URL;VALUE=URI:https://events.intrecht.de/termine/termin/rising-sea-levels-p
 romoting-climate-justice-through-international-law-webinar-series/
END:VEVENT
BEGIN:VTIMEZONE
TZID:Europe/Berlin
BEGIN:STANDARD
TZOFFSETFROM:+0200
TZOFFSETTO:+0100
DTSTART:20201025T010000
TZNAME:CET
END:STANDARD
END:VTIMEZONE
END:VCALENDAR
