BEGIN:VCALENDAR
VERSION:2.0
PRODID:-//Events | FID-Recht//NONSGML Events//EN
CALSCALE:GREGORIAN
X-ORIGINAL-URL:https://events.intrecht.de/termine/
X-WR-CALDESC:Events | FID-Recht - Events
BEGIN:VEVENT
UID:20230106T1150Z-1673005842.4545-EO-7874-1@172.16.200.151
STATUS:CONFIRMED
DTSTAMP:20260421T133527Z
CREATED:20230103T094638Z
LAST-MODIFIED:20230103T094638Z
DTSTART;VALUE=DATE:20230116
DTEND;VALUE=DATE:20230117
SUMMARY: Ringvorlesung „Zur Kritik und Zukunft des liberalen Skripts“ Gülay
  Çağlar – Geschlechtergerechtigkeit im liberalen Skript: feministische Pers
 pektiven
DESCRIPTION: 16.1.2023 / Online und Berlin https://www.scripts-berlin.eu/de
 /news-events-media/events/2022_Lecture-Series_OH_9.html  
X-ALT-DESC;FMTTYPE=text/html: <p>16.1.2023 / Online und Berlin</p><p><a hre
 f="https://www.scripts-berlin.eu/de/news-events-media/events/2022_Lecture-S
 eries_OH_9.html">https://www.scripts-berlin.eu/de/news-events-media/events/
 2022_Lecture-Series_OH_9.html</a></p><p> </p><p>[av_button label='iCal-Expo
 rt' link='./feed/eo-events' link_target='' size='small' position='center' l
 abel_display='' title_attr='' icon_select='yes' icon='ue85b' font='entypo-f
 ontello' color='custom' custom_bg='#b5123e' custom_font='#ffffff' av_uid=''
  id='' custom_class='' admin_preview_bg='']</p>
CATEGORIES:Recht interdisziplinär
LOCATION:Online
GEO:0.000000;0.000000
ORGANIZER;CN="ViFa-Recht":MAILTO:vifa-recht@sbb.spk-berlin.de
URL;VALUE=URI:https://events.intrecht.de/termine/termin/ringvorlesung-zur-k
 ritik-und-zukunft-des-liberalen-skripts-guelay-caglar-geschlechtergerechtig
 keit-im-liberalen-skript-feministische-perspektiven/
END:VEVENT
BEGIN:VTIMEZONE
TZID:Europe/Berlin
BEGIN:STANDARD
TZOFFSETFROM:+0200
TZOFFSETTO:+0100
DTSTART:20221030T010000
TZNAME:CET
END:STANDARD
END:VTIMEZONE
END:VCALENDAR
