BEGIN:VCALENDAR
VERSION:2.0
PRODID:-//Events | FID-Recht//NONSGML Events//EN
CALSCALE:GREGORIAN
X-ORIGINAL-URL:https://events.intrecht.de/termine/
X-WR-CALDESC:Events | FID-Recht - Events
BEGIN:VEVENT
UID:20200603T1418Z-1591193923.3362-EO-587-1@172.16.200.141
STATUS:CONFIRMED
DTSTAMP:20260422T141656Z
CREATED:20240223T132840Z
LAST-MODIFIED:20240223T132840Z
DTSTART;VALUE=DATE:20240706
DTEND;VALUE=DATE:20240715
SUMMARY: Rights without Borders? Subjects\, Precarity\, Agency (9th Interna
 tional Osnabrück Summer Institute (OSI))
DESCRIPTION: 6.-14.7.2024 / Osnabrück (Einreichungsfrist: 1.4.2024) https:/
 /www.osi.uni-osnabrueck.de/2024/02/21/osi-2024-rights-without-borders-subje
 cts-precarity-agency/
X-ALT-DESC;FMTTYPE=text/html: <p>6.-14.7.2024 / Osnabrück <strong>(Einreich
 ungsfrist: 1.4.2024)</strong></p><p><a href="https://www.osi.uni-osnabrueck
 .de/2024/02/21/osi-2024-rights-without-borders-subjects-precarity-agency/">
 https://www.osi.uni-osnabrueck.de/2024/02/21/osi-2024-rights-without-border
 s-subjects-precarity-agency/</a></p><p>[av_button label='iCal-Export' link=
 './feed/eo-events' link_target='' size='small' position='center' label_disp
 lay='' title_attr='' icon_select='yes' icon='ue85b' font='entypo-fontello' 
 color='custom' custom_bg='#b5123e' custom_font='#ffffff' av_uid='' id='' cu
 stom_class='' admin_preview_bg='']</p>
CATEGORIES:Recht interdisziplinär
LOCATION:Inland
GEO:0.000000;0.000000
ORGANIZER;CN="ViFa-Recht":MAILTO:vifa-recht@sbb.spk-berlin.de
URL;VALUE=URI:https://events.intrecht.de/termine/termin/rights-without-bord
 ers-subjects-precarity-agency-9th-international-osnabrueck-summer-institute
 -osi/
END:VEVENT
BEGIN:VTIMEZONE
TZID:Europe/Berlin
BEGIN:DAYLIGHT
TZOFFSETFROM:+0100
TZOFFSETTO:+0200
DTSTART:20240331T010000
TZNAME:CEST
END:DAYLIGHT
END:VTIMEZONE
END:VCALENDAR
