BEGIN:VCALENDAR
VERSION:2.0
PRODID:-//Events | FID-Recht//NONSGML Events//EN
CALSCALE:GREGORIAN
X-ORIGINAL-URL:https://events.intrecht.de/termine/
X-WR-CALDESC:Events | FID-Recht - Events
BEGIN:VEVENT
UID:20200603T1418Z-1591193923.3362-EO-587-1@172.16.200.141
STATUS:CONFIRMED
DTSTAMP:20260422T123531Z
CREATED:20231219T120445Z
LAST-MODIFIED:20231219T120501Z
DTSTART;VALUE=DATE:20240312
DTEND;VALUE=DATE:20240314
SUMMARY: Right to a Future\, Rights of a Child (International Conference)
DESCRIPTION: 12.-13.3.2024 / Luzern https://www.unilu.ch/fakultaeten/rf/ver
 anstaltungen/international-conference-right-to-a-future-rights-of-a-child-8
 026/
X-ALT-DESC;FMTTYPE=text/html: <p>12.-13.3.2024 / Luzern</p><p><a href="http
 s://www.unilu.ch/fakultaeten/rf/veranstaltungen/international-conference-ri
 ght-to-a-future-rights-of-a-child-8026/">https://www.unilu.ch/fakultaeten/r
 f/veranstaltungen/international-conference-right-to-a-future-rights-of-a-ch
 ild-8026/</a></p><p>[av_button label='iCal-Export' link='./feed/eo-events' 
 link_target='' size='small' position='center' label_display='' title_attr='
 ' icon_select='yes' icon='ue85b' font='entypo-fontello' color='custom' cust
 om_bg='#b5123e' custom_font='#ffffff' av_uid='' id='' custom_class='' admin
 _preview_bg='']</p>
CATEGORIES:Recht interdisziplinär
LOCATION:Ausland
GEO:0.000000;0.000000
ORGANIZER;CN="ViFa-Recht":MAILTO:vifa-recht@sbb.spk-berlin.de
URL;VALUE=URI:https://events.intrecht.de/termine/termin/right-to-a-future-r
 ights-of-a-child-international-conference/
END:VEVENT
BEGIN:VTIMEZONE
TZID:Europe/Berlin
BEGIN:STANDARD
TZOFFSETFROM:+0200
TZOFFSETTO:+0100
DTSTART:20231029T010000
TZNAME:CET
END:STANDARD
END:VTIMEZONE
END:VCALENDAR
