BEGIN:VCALENDAR
VERSION:2.0
PRODID:-//Events | FID-Recht//NONSGML Events//EN
CALSCALE:GREGORIAN
X-ORIGINAL-URL:https://events.intrecht.de/termine/
X-WR-CALDESC:Events | FID-Recht - Events
BEGIN:VEVENT
UID:20200813T0010Z-1597277419.5128-EO-1277-1@172.16.200.141
STATUS:CONFIRMED
DTSTAMP:20260422T143203Z
CREATED:20200730T182602Z
LAST-MODIFIED:20200730T183119Z
DTSTART;VALUE=DATE:20200825
DTEND;VALUE=DATE:20200826
SUMMARY: RIDOC (Rijeka Doctoral Conference) (Call)
DESCRIPTION: 4.12.2020\, Rijeka (Frist für Einreichungen: 25.8.2020) https:
 //www.pravri.uniri.hr/files/ridoc/RIDOC2020-07-18.pdf  
X-ALT-DESC;FMTTYPE=text/html: <p><span style="display: inline !important\; 
 float: none\; background-color: #ffffff\; color: #333333\; cursor: text\; f
 ont-family: Georgia\,'Times New Roman'\,'Bitstream Charter'\,Times\,serif\;
  font-size: 16px\; font-style: normal\; font-variant: normal\; font-weight:
  400\; letter-spacing: normal\; orphans: 2\; text-align: left\; text-decora
 tion: none\; text-indent: 0px\; text-transform: none\; -webkit-text-stroke-
 width: 0px\; white-space: normal\; word-spacing: 0px\;">4.12.2020\, Rijeka 
 (Frist für Einreichungen: 25.8.2020)</span></p><p><a href="https://www.prav
 ri.uniri.hr/files/ridoc/RIDOC2020-07-18.pdf">https://www.pravri.uniri.hr/fi
 les/ridoc/RIDOC2020-07-18.pdf</a></p><p> </p><p>[av_button label='iCal-Expo
 rt' link='./feed/eo-events' link_target='' size='small' position='center' l
 abel_display='' title_attr='' icon_select='yes' icon='ue85b' font='entypo-f
 ontello' color='custom' custom_bg='#b5123e' custom_font='#ffffff' av_uid=''
  id='' custom_class='' admin_preview_bg='']</p>
CATEGORIES:Europäisches / Internationales Recht,Öffentliches Recht,Recht interdisziplinär,Strafrecht,Zivilrecht
LOCATION:Ausland
GEO:0.000000;0.000000
ORGANIZER;CN="ViFa-Recht":MAILTO:vifa-recht@sbb.spk-berlin.de
URL;VALUE=URI:https://events.intrecht.de/termine/termin/ridoc-rijeka-doctor
 al-conference-konferenz/
END:VEVENT
BEGIN:VTIMEZONE
TZID:Europe/Berlin
BEGIN:DAYLIGHT
TZOFFSETFROM:+0100
TZOFFSETTO:+0200
DTSTART:20200329T010000
TZNAME:CEST
END:DAYLIGHT
END:VTIMEZONE
END:VCALENDAR
