BEGIN:VCALENDAR
VERSION:2.0
PRODID:-//Events | FID-Recht//NONSGML Events//EN
CALSCALE:GREGORIAN
X-ORIGINAL-URL:https://events.intrecht.de/termine/
X-WR-CALDESC:Events | FID-Recht - Events
BEGIN:VEVENT
UID:20211104T1248Z-1636030136.5739-EO-4688-1@172.16.200.141
STATUS:CONFIRMED
DTSTAMP:20260421T151820Z
CREATED:20211102T152557Z
LAST-MODIFIED:20211102T152557Z
DTSTART;VALUE=DATE:20211202
DTEND;VALUE=DATE:20211204
SUMMARY: Richard Martin Honig – Prägender Göttinger (Straf-)Rechtswissensch
 aftler? (Tagung)
DESCRIPTION: 2.-3.12.2021\, Göttingen Göttinger Naturrecht – Kurztagung anl
 ässlich des 300. Geburtstags von Gottfried Achenwall – Georg-August-Univers
 ität Göttingen (uni-goettingen.de)  
X-ALT-DESC;FMTTYPE=text/html: <p>2.-3.12.2021\, Göttingen</p><p><a href="ht
 tps://www.uni-goettingen.de/de/574904.html">Göttinger Naturrecht - Kurztagu
 ng anlässlich des 300. Geburtstags von Gottfried Achenwall - Georg-August-U
 niversität Göttingen (uni-goettingen.de)</a></p><p> </p><p>[av_button label
 ='iCal-Export' link='./feed/eo-events' link_target='' size='small' position
 ='center' label_display='' title_attr='' icon_select='yes' icon='ue85b' fon
 t='entypo-fontello' color='custom' custom_bg='#b5123e' custom_font='#ffffff
 ' av_uid='' id='' custom_class='' admin_preview_bg='']</p>
LOCATION:Inland
GEO:0.000000;0.000000
ORGANIZER;CN="ViFa-Recht":MAILTO:vifa-recht@sbb.spk-berlin.de
URL;VALUE=URI:https://events.intrecht.de/termine/termin/richard-martin-honi
 g-praegender-goettinger-straf-rechtswissenschaftler-tagung/
END:VEVENT
BEGIN:VTIMEZONE
TZID:Europe/Berlin
BEGIN:STANDARD
TZOFFSETFROM:+0200
TZOFFSETTO:+0100
DTSTART:20211031T010000
TZNAME:CET
END:STANDARD
END:VTIMEZONE
END:VCALENDAR
