BEGIN:VCALENDAR
VERSION:2.0
PRODID:-//Events | FID-Recht//NONSGML Events//EN
CALSCALE:GREGORIAN
X-ORIGINAL-URL:https://events.intrecht.de/termine/
X-WR-CALDESC:Events | FID-Recht - Events
BEGIN:VEVENT
UID:20230223T1847Z-1677178045.6321-EO-8023-1@172.16.200.151
STATUS:CONFIRMED
DTSTAMP:20260422T050356Z
CREATED:20230116T165253Z
LAST-MODIFIED:20230116T165253Z
DTSTART;VALUE=DATE:20230119
DTEND;VALUE=DATE:20230120
SUMMARY: Rhineland Lectures in International Law – Making Russia pay: Legal
  hurdles to use seized Russian assets to compensate Ukraine
DESCRIPTION: 19.1.2023 / Online und Bonn https://www.jura.uni-bonn.de/insti
 tute-und-lehrstuehle/institut-fuer-voelkerrecht/geschichtehistory/instituts
 leben/life-at-the-institute/rhineland-lectures-in-international-law  
X-ALT-DESC;FMTTYPE=text/html: <p>19.1.2023 / Online und Bonn</p><p><a href=
 "https://www.jura.uni-bonn.de/institute-und-lehrstuehle/institut-fuer-voelk
 errecht/geschichtehistory/institutsleben/life-at-the-institute/rhineland-le
 ctures-in-international-law">https://www.jura.uni-bonn.de/institute-und-leh
 rstuehle/institut-fuer-voelkerrecht/geschichtehistory/institutsleben/life-a
 t-the-institute/rhineland-lectures-in-international-law</a></p><p> </p><p>[
 av_button label='iCal-Export' link='./feed/eo-events' link_target='' size='
 small' position='center' label_display='' title_attr='' icon_select='yes' i
 con='ue85b' font='entypo-fontello' color='custom' custom_bg='#b5123e' custo
 m_font='#ffffff' av_uid='' id='' custom_class='' admin_preview_bg='']</p>
CATEGORIES:Europäisches / Internationales Recht
LOCATION:Online
GEO:0.000000;0.000000
ORGANIZER;CN="ViFa-Recht":MAILTO:vifa-recht@sbb.spk-berlin.de
URL;VALUE=URI:https://events.intrecht.de/termine/termin/rhineland-lectures-
 in-international-law-making-russia-pay-legal-hurdles-to-use-seized-russian-
 assets-to-compensate-ukraine/
END:VEVENT
BEGIN:VTIMEZONE
TZID:Europe/Berlin
BEGIN:STANDARD
TZOFFSETFROM:+0200
TZOFFSETTO:+0100
DTSTART:20221030T010000
TZNAME:CET
END:STANDARD
END:VTIMEZONE
END:VCALENDAR
