BEGIN:VCALENDAR
VERSION:2.0
PRODID:-//Events | FID-Recht//NONSGML Events//EN
CALSCALE:GREGORIAN
X-ORIGINAL-URL:https://events.intrecht.de/termine/
X-WR-CALDESC:Events | FID-Recht - Events
BEGIN:VEVENT
UID:20230420T1116Z-1681989403.307-EO-12782-1@172.16.200.151
STATUS:CONFIRMED
DTSTAMP:20260425T162819Z
CREATED:20230213T083902Z
LAST-MODIFIED:20230213T083902Z
DTSTART;VALUE=DATE:20230829
DTEND;VALUE=DATE:20230902
SUMMARY: RGS-IBG Annual Conference 2023: Climate changed (legal) geographie
 s: Taking the Law out for a Walk in the Anthropocene
DESCRIPTION: 29.8.-1.9.2023 / London (Frist für Einreichungen: 24.3.2023) h
 ttps://www.rgs.org/research/annual-international-conference/call/  
X-ALT-DESC;FMTTYPE=text/html: <p>29.8.-1.9.2023 / London <strong>(Frist für
  Einreichungen: 24.3.2023)</strong></p><p><a href="https://www.rgs.org/rese
 arch/annual-international-conference/call/">https://www.rgs.org/research/an
 nual-international-conference/call/</a></p><p> </p><p>[av_button label='iCa
 l-Export' link='./feed/eo-events' link_target='' size='small' position='cen
 ter' label_display='' title_attr='' icon_select='yes' icon='ue85b' font='en
 typo-fontello' color='custom' custom_bg='#b5123e' custom_font='#ffffff' av_
 uid='' id='' custom_class='' admin_preview_bg='']</p>
CATEGORIES:Recht interdisziplinär
LOCATION:Ausland
GEO:0.000000;0.000000
ORGANIZER;CN="ViFa-Recht":MAILTO:vifa-recht@sbb.spk-berlin.de
URL;VALUE=URI:https://events.intrecht.de/termine/termin/rgs-ibg-annual-conf
 erence-2023-climate-changed-legal-geographies-taking-the-law-out-for-a-walk
 -in-the-anthropocene/
END:VEVENT
BEGIN:VTIMEZONE
TZID:Europe/Berlin
BEGIN:DAYLIGHT
TZOFFSETFROM:+0100
TZOFFSETTO:+0200
DTSTART:20230326T010000
TZNAME:CEST
END:DAYLIGHT
END:VTIMEZONE
END:VCALENDAR
