BEGIN:VCALENDAR
VERSION:2.0
PRODID:-//Events | FID-Recht//NONSGML Events//EN
CALSCALE:GREGORIAN
X-ORIGINAL-URL:https://events.intrecht.de/termine/
X-WR-CALDESC:Events | FID-Recht - Events
BEGIN:VEVENT
UID:20200603T1418Z-1591193923.3362-EO-587-1@172.16.200.141
STATUS:CONFIRMED
DTSTAMP:20260425T132434Z
CREATED:20230320T094942Z
LAST-MODIFIED:20230320T094942Z
DTSTART;VALUE=DATE:20230505
DTEND;VALUE=DATE:20230506
SUMMARY: Rezensionen in der Wissenschaft: Machtmissbrauch oder Qualitätsgar
 antie? (Tagung)
DESCRIPTION: 5.5.2023 / Köln (Anmeldefrist: 25.4.2023) https://www.jura.uni
 -wuerzburg.de/fileadmin/02000100/Infoportal_extern/2023/2023-03/Einladung_R
 ezensionstagung.pdf
X-ALT-DESC;FMTTYPE=text/html: <p>5.5.2023 / Köln <strong>(Anmeldefrist: 25.
 4.2023)</strong></p><p><a href="https://www.jura.uni-wuerzburg.de/fileadmin
 /02000100/Infoportal_extern/2023/2023-03/Einladung_Rezensionstagung.pdf">ht
 tps://www.jura.uni-wuerzburg.de/fileadmin/02000100/Infoportal_extern/2023/2
 023-03/Einladung_Rezensionstagung.pdf</a></p><p>[av_button label='iCal-Expo
 rt' link='./feed/eo-events' link_target='' size='small' position='center' l
 abel_display='' title_attr='' icon_select='yes' icon='ue85b' font='entypo-f
 ontello' color='custom' custom_bg='#b5123e' custom_font='#ffffff' av_uid=''
  id='' custom_class='' admin_preview_bg='']</p>
CATEGORIES:Recht interdisziplinär
LOCATION:Inland
GEO:0.000000;0.000000
ORGANIZER;CN="ViFa-Recht":MAILTO:vifa-recht@sbb.spk-berlin.de
URL;VALUE=URI:https://events.intrecht.de/termine/termin/rezensionen-in-der-
 wissenschaft-machtmissbrauch-oder-qualitaetsgarantie-tagung/
END:VEVENT
BEGIN:VTIMEZONE
TZID:Europe/Berlin
BEGIN:DAYLIGHT
TZOFFSETFROM:+0100
TZOFFSETTO:+0200
DTSTART:20230326T010000
TZNAME:CEST
END:DAYLIGHT
END:VTIMEZONE
END:VCALENDAR
