BEGIN:VCALENDAR
VERSION:2.0
PRODID:-//Events | FID-Recht//NONSGML Events//EN
CALSCALE:GREGORIAN
X-ORIGINAL-URL:https://events.intrecht.de/termine/
X-WR-CALDESC:Events | FID-Recht - Events
BEGIN:VEVENT
UID:20220501T1811Z-1651428687.0496-EO-6811-1@172.16.200.141
STATUS:CONFIRMED
DTSTAMP:20260422T143249Z
CREATED:20220429T154601Z
LAST-MODIFIED:20220429T154610Z
DTSTART;VALUE=DATE:20220609
DTEND;VALUE=DATE:20220611
SUMMARY: Revisiting the Meaning of Sovereignty ((Online-) Tagung)
DESCRIPTION: 9.-10.6.2022\, Kent/Online (Frist für Einreichungen: 10.5.2022
 ) CfP: Kent Grad Conference: Revisiting the meaning of Sovereignty (critica
 llegalthinking.com)  
X-ALT-DESC;FMTTYPE=text/html: <p>9.-10.6.2022\, Kent/Online (Frist für Einr
 eichungen: 10.5.2022)</p><p><a href="https://criticallegalthinking.com/2022
 /04/29/cfp-kent-grad-conference-revisiting-the-meaning-of-sovereignty/">CfP
 : Kent Grad Conference: Revisiting the meaning of Sovereignty (criticallega
 lthinking.com)</a></p><p> </p><p>[av_button label='iCal-Export' link='./fee
 d/eo-events' link_target='' size='small' position='center' label_display=''
  title_attr='' icon_select='yes' icon='ue85b' font='entypo-fontello' color=
 'custom' custom_bg='#b5123e' custom_font='#ffffff' av_uid='' id='' custom_c
 lass='' admin_preview_bg='']</p>
CATEGORIES:Europäisches / Internationales Recht,Öffentliches Recht,Recht interdisziplinär
LOCATION:Online
GEO:0.000000;0.000000
ORGANIZER;CN="ViFa-Recht":MAILTO:vifa-recht@sbb.spk-berlin.de
URL;VALUE=URI:https://events.intrecht.de/termine/termin/revisiting-the-mean
 ing-of-sovereignty-online-tagung/
END:VEVENT
BEGIN:VTIMEZONE
TZID:Europe/Berlin
BEGIN:DAYLIGHT
TZOFFSETFROM:+0100
TZOFFSETTO:+0200
DTSTART:20220327T010000
TZNAME:CEST
END:DAYLIGHT
END:VTIMEZONE
END:VCALENDAR
