BEGIN:VCALENDAR
VERSION:2.0
PRODID:-//Events | FID-Recht//NONSGML Events//EN
CALSCALE:GREGORIAN
X-ORIGINAL-URL:https://events.intrecht.de/termine/
X-WR-CALDESC:Events | FID-Recht - Events
BEGIN:VEVENT
UID:20230420T1116Z-1681989400.4329-EO-8325-1@172.16.200.151
STATUS:CONFIRMED
DTSTAMP:20260425T215939Z
CREATED:20230207T163027Z
LAST-MODIFIED:20230207T163110Z
DTSTART;VALUE=DATE:20230705
DTEND;VALUE=DATE:20230707
SUMMARY: Revisiting the ‘constitutive idea’ – limitations\, genealogies\, s
 cholarship (Workshop)
DESCRIPTION: 5.-6.7.2023 / Cambridge https://mcusercontent.com/47624183ad52
 dd8428c97d3f6/files/5eb42cfa-f56e-690e-97c0-33d1a014366e/CfP_Workshop_Revis
 iting_the_constitutive_idea_.pdf  
X-ALT-DESC;FMTTYPE=text/html: <p>5.-6.7.2023 / Cambridge</p><p><a href="htt
 ps://mcusercontent.com/47624183ad52dd8428c97d3f6/files/5eb42cfa-f56e-690e-9
 7c0-33d1a014366e/CfP_Workshop_Revisiting_the_constitutive_idea_.pdf">https:
 //mcusercontent.com/47624183ad52dd8428c97d3f6/files/5eb42cfa-f56e-690e-97c0
 -33d1a014366e/CfP_Workshop_Revisiting_the_constitutive_idea_.pdf</a></p><p>
  </p><p>[av_button label='iCal-Export' link='./feed/eo-events' link_target=
 '' size='small' position='center' label_display='' title_attr='' icon_selec
 t='yes' icon='ue85b' font='entypo-fontello' color='custom' custom_bg='#b512
 3e' custom_font='#ffffff' av_uid='' id='' custom_class='' admin_preview_bg=
 '']</p>
CATEGORIES:Recht interdisziplinär
LOCATION:Ausland
GEO:0.000000;0.000000
ORGANIZER;CN="ViFa-Recht":MAILTO:vifa-recht@sbb.spk-berlin.de
URL;VALUE=URI:https://events.intrecht.de/termine/termin/revisiting-the-cons
 titutive-idea-limitations-genealogies-scholarship-workshop/
END:VEVENT
BEGIN:VTIMEZONE
TZID:Europe/Berlin
BEGIN:DAYLIGHT
TZOFFSETFROM:+0100
TZOFFSETTO:+0200
DTSTART:20230326T010000
TZNAME:CEST
END:DAYLIGHT
END:VTIMEZONE
END:VCALENDAR
