BEGIN:VCALENDAR
VERSION:2.0
PRODID:-//Events | FID-Recht//NONSGML Events//EN
CALSCALE:GREGORIAN
X-ORIGINAL-URL:https://events.intrecht.de/termine/
X-WR-CALDESC:Events | FID-Recht - Events
BEGIN:VEVENT
UID:20201113T0047Z-1605228452.1389-EO-2165-1@172.16.200.141
STATUS:CONFIRMED
DTSTAMP:20260421T133927Z
CREATED:20201105T193747Z
LAST-MODIFIED:20201105T193747Z
DTSTART;VALUE=DATE:20201120
DTEND;VALUE=DATE:20201120
SUMMARY: Reviewing the Review – What Needs to Change at the International C
 riminal Court? (Online-Podiumsdiskussion)
DESCRIPTION: 20.11.2020\, Online https://www.biicl.org/events/11449/reviewi
 ng-the-review-what-needs-to-change-at-the-international-criminal-court    
X-ALT-DESC;FMTTYPE=text/html: <p>20.11.2020\, Online</p><p><a href="https:/
 /www.biicl.org/events/11449/reviewing-the-review-what-needs-to-change-at-th
 e-international-criminal-court">https://www.biicl.org/events/11449/reviewin
 g-the-review-what-needs-to-change-at-the-international-criminal-court</a></
 p><p><strong> </strong></p><p> </p><p>[av_button label='iCal-Export' link='
 ./feed/eo-events' link_target='' size='small' position='center' label_displ
 ay='' title_attr='' icon_select='yes' icon='ue85b' font='entypo-fontello' c
 olor='custom' custom_bg='#b5123e' custom_font='#ffffff' av_uid='' id='' cus
 tom_class='' admin_preview_bg='']</p>
CATEGORIES:Europäisches / Internationales Recht,Strafrecht
LOCATION:Online
GEO:0.000000;0.000000
ORGANIZER;CN="ViFa-Recht":MAILTO:vifa-recht@sbb.spk-berlin.de
URL;VALUE=URI:https://events.intrecht.de/termine/termin/reviewing-the-revie
 w-what-needs-to-change-at-the-international-criminal-court-online-podiumsdi
 skussion/
END:VEVENT
BEGIN:VTIMEZONE
TZID:Europe/Berlin
BEGIN:STANDARD
TZOFFSETFROM:+0200
TZOFFSETTO:+0100
DTSTART:20201025T010000
TZNAME:CET
END:STANDARD
END:VTIMEZONE
END:VCALENDAR
