BEGIN:VCALENDAR
VERSION:2.0
PRODID:-//Events | FID-Recht//NONSGML Events//EN
CALSCALE:GREGORIAN
X-ORIGINAL-URL:https://events.intrecht.de/termine/
X-WR-CALDESC:Events | FID-Recht - Events
BEGIN:VEVENT
UID:20200603T1418Z-1591193923.3362-EO-587-1@172.16.200.141
STATUS:CONFIRMED
DTSTAMP:20260423T003130Z
CREATED:20241202T174033Z
LAST-MODIFIED:20241202T174146Z
DTSTART;VALUE=DATE:20250327
DTEND;VALUE=DATE:20250329
SUMMARY: Reverse Strategic Litigation by Governments on Migrants’ Rights? (
 Workshop)
DESCRIPTION: 27.-28.3.2025 / Amsterdam (Einreichungsfrist: 20.12.2024) http
 s://acmrl.org/call-for-papers-reverse-strategic-litigation-by-governments-o
 n-migrants-rights/
X-ALT-DESC;FMTTYPE=text/html: <p>27.-28.3.2025 / Amsterdam <strong>(Einreic
 hungsfrist: 20.12.2024)</strong></p><p><a href="https://acmrl.org/call-for-
 papers-reverse-strategic-litigation-by-governments-on-migrants-rights/">htt
 ps://acmrl.org/call-for-papers-reverse-strategic-litigation-by-governments-
 on-migrants-rights/</a></p><p>[av_button label='iCal-Export' link='./feed/e
 o-events' link_target='' size='small' position='center' label_display='' ti
 tle_attr='' icon_select='yes' icon='ue85b' font='entypo-fontello' color='cu
 stom' custom_bg='#b5123e' custom_font='#ffffff' av_uid='' id='' custom_clas
 s='' admin_preview_bg='']</p>
CATEGORIES:Recht interdisziplinär
LOCATION:Ausland
GEO:0.000000;0.000000
ORGANIZER;CN="ViFa-Recht":MAILTO:vifa-recht@sbb.spk-berlin.de
URL;VALUE=URI:https://events.intrecht.de/termine/termin/reverse-strategic-l
 itigation-by-governments-on-migrants-rights-workshop/
END:VEVENT
BEGIN:VTIMEZONE
TZID:Europe/Berlin
BEGIN:STANDARD
TZOFFSETFROM:+0200
TZOFFSETTO:+0100
DTSTART:20241027T010000
TZNAME:CET
END:STANDARD
END:VTIMEZONE
END:VCALENDAR
