BEGIN:VCALENDAR
VERSION:2.0
PRODID:-//Events | FID-Recht//NONSGML Events//EN
CALSCALE:GREGORIAN
X-ORIGINAL-URL:https://events.intrecht.de/termine/
X-WR-CALDESC:Events | FID-Recht - Events
BEGIN:VEVENT
UID:20200603T1418Z-1591193923.3362-EO-587-1@172.16.200.141
STATUS:CONFIRMED
DTSTAMP:20260422T125230Z
CREATED:20240503T101311Z
LAST-MODIFIED:20240503T101435Z
DTSTART;VALUE=DATE:20240528
DTEND;VALUE=DATE:20240529
SUMMARY: Reverse strategic litigation by Governments? Negotiating sovereign
 ty and migration control before the European Court of Human Rights (Hybrid 
 Event)
DESCRIPTION: 28.5.2024 / Online und Berlin https://www.rewi.hu-berlin.de/de
 /lf/oe/lsi/termine/werkstattgespraech-reverse-strategic-litigation-by-gover
 nments-negotiating-sovereignty-and-migration-control-before-the-european-co
 urt-of-human-rights-with-janna-wessels-vu-amsterdam
X-ALT-DESC;FMTTYPE=text/html: <p>28.5.2024 / Online und Berlin</p><p><a hre
 f="https://www.rewi.hu-berlin.de/de/lf/oe/lsi/termine/werkstattgespraech-re
 verse-strategic-litigation-by-governments-negotiating-sovereignty-and-migra
 tion-control-before-the-european-court-of-human-rights-with-janna-wessels-v
 u-amsterdam">https://www.rewi.hu-berlin.de/de/lf/oe/lsi/termine/werkstattge
 spraech-reverse-strategic-litigation-by-governments-negotiating-sovereignty
 -and-migration-control-before-the-european-court-of-human-rights-with-janna
 -wessels-vu-amsterdam</a></p><p>[av_button label='iCal-Export' link='./feed
 /eo-events' link_target='' size='small' position='center' label_display='' 
 title_attr='' icon_select='yes' icon='ue85b' font='entypo-fontello' color='
 custom' custom_bg='#b5123e' custom_font='#ffffff' av_uid='' id='' custom_cl
 ass='' admin_preview_bg='']</p>
CATEGORIES:Europäisches / Internationales Recht
LOCATION:Hybrid
GEO:0.000000;0.000000
ORGANIZER;CN="ViFa-Recht":MAILTO:vifa-recht@sbb.spk-berlin.de
URL;VALUE=URI:https://events.intrecht.de/termine/termin/reverse-strategic-l
 itigation-by-governments-negotiating-sovereignty-and-migration-control-befo
 re-the-european-court-of-human-rights-hybrid-event/
END:VEVENT
BEGIN:VTIMEZONE
TZID:Europe/Berlin
BEGIN:DAYLIGHT
TZOFFSETFROM:+0100
TZOFFSETTO:+0200
DTSTART:20240331T010000
TZNAME:CEST
END:DAYLIGHT
END:VTIMEZONE
END:VCALENDAR
