BEGIN:VCALENDAR
VERSION:2.0
PRODID:-//Events | FID-Recht//NONSGML Events//EN
CALSCALE:GREGORIAN
X-ORIGINAL-URL:https://events.intrecht.de/termine/
X-WR-CALDESC:Events | FID-Recht - Events
BEGIN:VEVENT
UID:20221208T2205Z-1670537111.0008-EO-7743-1@172.16.200.151
STATUS:CONFIRMED
DTSTAMP:20260421T182827Z
CREATED:20221206T173950Z
LAST-MODIFIED:20221206T173950Z
DTSTART;VALUE=DATE:20230512
DTEND;VALUE=DATE:20230513
SUMMARY: Rethinking the grounds for divorce – Comparative perspectives from
  the UK\, the US\, Canada and Australia (Tagung)
DESCRIPTION: 12.5.2023 / London https://www.legalscholars.ac.uk/event/confe
 rence-rethinking-the-grounds-for-divorce-comparative-perspectives-from-the-
 uk-the-us-canada-and-australia/  
X-ALT-DESC;FMTTYPE=text/html: <p>12.5.2023 / London</p><p><a href="https://
 www.legalscholars.ac.uk/event/conference-rethinking-the-grounds-for-divorce
 -comparative-perspectives-from-the-uk-the-us-canada-and-australia/">https:/
 /www.legalscholars.ac.uk/event/conference-rethinking-the-grounds-for-divorc
 e-comparative-perspectives-from-the-uk-the-us-canada-and-australia/</a></p>
 <p> </p><p>[av_button label='iCal-Export' link='./feed/eo-events' link_targ
 et='' size='small' position='center' label_display='' title_attr='' icon_se
 lect='yes' icon='ue85b' font='entypo-fontello' color='custom' custom_bg='#b
 5123e' custom_font='#ffffff' av_uid='' id='' custom_class='' admin_preview_
 bg='']</p>
CATEGORIES:Zivilrecht
LOCATION:Ausland
GEO:0.000000;0.000000
ORGANIZER;CN="ViFa-Recht":MAILTO:vifa-recht@sbb.spk-berlin.de
URL;VALUE=URI:https://events.intrecht.de/termine/termin/rethinking-the-grou
 nds-for-divorce-comparative-perspectives-from-the-uk-the-us-canada-and-aust
 ralia-tagung/
END:VEVENT
BEGIN:VTIMEZONE
TZID:Europe/Berlin
BEGIN:DAYLIGHT
TZOFFSETFROM:+0100
TZOFFSETTO:+0200
DTSTART:20230326T010000
TZNAME:CEST
END:DAYLIGHT
END:VTIMEZONE
END:VCALENDAR
