BEGIN:VCALENDAR
VERSION:2.0
PRODID:-//Events | FID-Recht//NONSGML Events//EN
CALSCALE:GREGORIAN
X-ORIGINAL-URL:https://events.intrecht.de/termine/
X-WR-CALDESC:Events | FID-Recht - Events
BEGIN:VEVENT
UID:20200603T1418Z-1591193923.3362-EO-587-1@172.16.200.141
STATUS:CONFIRMED
DTSTAMP:20260425T164733Z
CREATED:20230703T151102Z
LAST-MODIFIED:20230703T151102Z
DTSTART;VALUE=DATE:20240226
DTEND;VALUE=DATE:20240302
SUMMARY: Rethinking Migration – Historical and Contemporary Perspectives (D
 oktorand:innen-Kolloquium)
DESCRIPTION: 26.2.-1.3.2024 / Menaggio (Frist für Einreichungen: 15.9.2023)
  https://www.dgphil.de/fileadmin/uploads/events/0-1687958953.pdf
X-ALT-DESC;FMTTYPE=text/html: <p>26.2.-1.3.2024 / Menaggio <strong>(Frist f
 ür Einreichungen: 15.9.2023)</strong></p><p><a href="https://www.dgphil.de/
 fileadmin/uploads/events/0-1687958953.pdf">https://www.dgphil.de/fileadmin/
 uploads/events/0-1687958953.pdf</a></p><p>[av_button label='iCal-Export' li
 nk='./feed/eo-events' link_target='' size='small' position='center' label_d
 isplay='' title_attr='' icon_select='yes' icon='ue85b' font='entypo-fontell
 o' color='custom' custom_bg='#b5123e' custom_font='#ffffff' av_uid='' id=''
  custom_class='' admin_preview_bg='']</p>
CATEGORIES:Recht interdisziplinär
LOCATION:Ausland
GEO:0.000000;0.000000
ORGANIZER;CN="ViFa-Recht":MAILTO:vifa-recht@sbb.spk-berlin.de
URL;VALUE=URI:https://events.intrecht.de/termine/termin/rethinking-migratio
 n-historical-and-contemporary-perspectives-doktorandinnen-kolloquium/
END:VEVENT
BEGIN:VTIMEZONE
TZID:Europe/Berlin
BEGIN:STANDARD
TZOFFSETFROM:+0200
TZOFFSETTO:+0100
DTSTART:20231029T010000
TZNAME:CET
END:STANDARD
END:VTIMEZONE
END:VCALENDAR
