BEGIN:VCALENDAR
VERSION:2.0
PRODID:-//Events | FID-Recht//NONSGML Events//EN
CALSCALE:GREGORIAN
X-ORIGINAL-URL:https://events.intrecht.de/termine/
X-WR-CALDESC:Events | FID-Recht - Events
BEGIN:VEVENT
UID:20220319T0650Z-1647672616.8335-EO-5039-1@172.16.200.141
STATUS:CONFIRMED
DTSTAMP:20260420T111724Z
CREATED:20220316T193627Z
LAST-MODIFIED:20220629T125529Z
DTSTART;VALUE=DATE:20220929
DTEND;VALUE=DATE:20221002
SUMMARY: Responsibility (Jahreskonferenz von SAFI – Societas Aperta Feminar
 um in Iuris Theoria) (Tagung)
DESCRIPTION: 29.9.-1.10.2022\, Verona (Frist für Einreichungen: 30.4.2022) 
 Verona 2022 – Safi (safi-network.org)  
X-ALT-DESC;FMTTYPE=text/html: <p>29.9.-1.10.2022\, Verona (Frist für Einrei
 chungen: 30.4.2022)</p><p><a href="https://safi-network.org/verona-2022/">V
 erona 2022 – Safi (safi-network.org)</a></p><p> </p><p>[av_button label='iC
 al-Export' link='./feed/eo-events' link_target='' size='small' position='ce
 nter' label_display='' title_attr='' icon_select='yes' icon='ue85b' font='e
 ntypo-fontello' color='custom' custom_bg='#b5123e' custom_font='#ffffff' av
 _uid='' id='' custom_class='' admin_preview_bg='']</p>
CATEGORIES:Recht interdisziplinär
LOCATION:Ausland
GEO:0.000000;0.000000
ORGANIZER;CN="ViFa-Recht":MAILTO:vifa-recht@sbb.spk-berlin.de
URL;VALUE=URI:https://events.intrecht.de/termine/termin/responsibility-jahr
 eskonferenz-von-safi-societas-aperta-feminarum-in-iuris-theoria-tagung/
END:VEVENT
BEGIN:VTIMEZONE
TZID:Europe/Berlin
BEGIN:DAYLIGHT
TZOFFSETFROM:+0100
TZOFFSETTO:+0200
DTSTART:20220327T010000
TZNAME:CEST
END:DAYLIGHT
END:VTIMEZONE
END:VCALENDAR
