BEGIN:VCALENDAR
VERSION:2.0
PRODID:-//Events | FID-Recht//NONSGML Events//EN
CALSCALE:GREGORIAN
X-ORIGINAL-URL:https://events.intrecht.de/termine/
X-WR-CALDESC:Events | FID-Recht - Events
BEGIN:VEVENT
UID:20200618T0557Z-1592459854.1809-EO-819-1@172.16.200.141
STATUS:CONFIRMED
DTSTAMP:20260421T102919Z
CREATED:20200604T114431Z
LAST-MODIFIED:20200604T114630Z
DTSTART;VALUE=DATE:20201119
DTEND;VALUE=DATE:20201121
SUMMARY: VERSCHOBEN: Resistencia y resiliencia – Política\, derecho y cambi
 o social / III Seminario del Capítulo Colombia de la Sociedad Internacional
  de Derecho Público (ICON-S) (Konferenz)
DESCRIPTION: VERSCHOBEN auf 4.-5.11.2021\, Medellín http://www.eafit.edu.co
 /escuelas/derecho/iconscolombia/Paginas/iii-icons-colombia-medellin-2020.as
 px https://twitter.com/ColombiaIcon/status/1267869255804035074/photo/1  
X-ALT-DESC;FMTTYPE=text/html: <p>VERSCHOBEN auf <span style="display: inlin
 e !important\; float: none\; background-color: #ffffff\; color: #333333\; c
 ursor: text\; font-family: Georgia\,'Times New Roman'\,'Bitstream Charter'\
 ,Times\,serif\; font-size: 16px\; font-style: normal\; font-variant: normal
 \; font-weight: 400\; letter-spacing: normal\; orphans: 2\; text-align: lef
 t\; text-decoration: none\; text-indent: 0px\; text-transform: none\; -webk
 it-text-stroke-width: 0px\; white-space: normal\; word-spacing: 0px\;">4.-5
 .11.2021\, Medellín </span></p><p><a href="http://www.eafit.edu.co/escuelas
 /derecho/iconscolombia/Paginas/iii-icons-colombia-medellin-2020.aspx">http:
 //www.eafit.edu.co/escuelas/derecho/iconscolombia/Paginas/iii-icons-colombi
 a-medellin-2020.aspx</a></p><p><a href="https://twitter.com/ColombiaIcon/st
 atus/1267869255804035074/photo/1">https://twitter.com/ColombiaIcon/status/1
 267869255804035074/photo/1</a></p><p> </p><p>[av_button label='iCal-Export'
  link='./feed/eo-events' link_target='' size='small' position='center' labe
 l_display='' title_attr='' icon_select='yes' icon='ue85b' font='entypo-font
 ello' color='custom' custom_bg='#b5123e' custom_font='#ffffff' av_uid='' id
 ='' custom_class='' admin_preview_bg='']</p>
CATEGORIES:Europäisches / Internationales Recht,Öffentliches Recht,Recht interdisziplinär
LOCATION:Ausland
GEO:0.000000;0.000000
ORGANIZER;CN="ViFa-Recht":MAILTO:vifa-recht@sbb.spk-berlin.de
URL;VALUE=URI:https://events.intrecht.de/termine/termin/resistencia-y-resil
 iencia-politica-derecho-y-cambio-social-iii-seminario-del-capitulo-colombia
 -de-la-sociedad-internacional-de-derecho-publico-icon-s-konferenz/
END:VEVENT
BEGIN:VTIMEZONE
TZID:Europe/Berlin
BEGIN:STANDARD
TZOFFSETFROM:+0200
TZOFFSETTO:+0100
DTSTART:20201025T010000
TZNAME:CET
END:STANDARD
END:VTIMEZONE
END:VCALENDAR
