BEGIN:VCALENDAR
VERSION:2.0
PRODID:-//Events | FID-Recht//NONSGML Events//EN
CALSCALE:GREGORIAN
X-ORIGINAL-URL:https://events.intrecht.de/termine/
X-WR-CALDESC:Events | FID-Recht - Events
BEGIN:VEVENT
UID:20200603T1418Z-1591193923.3362-EO-587-1@172.16.200.141
STATUS:CONFIRMED
DTSTAMP:20260421T220349Z
CREATED:20240919T092747Z
LAST-MODIFIED:20240919T092747Z
DTSTART;VALUE=DATE:20241121
DTEND;VALUE=DATE:20241123
SUMMARY: Resilienz im digitalen Wandel (DGRI-Jahrestagung 2024)
DESCRIPTION: 21.-22.11.2024 / Kassel https://www.dgri.de/13n522
X-ALT-DESC;FMTTYPE=text/html: <p>21.-22.11.2024 / Kassel</p><p><a href="htt
 ps://www.dgri.de/13n522">https://www.dgri.de/13n522</a></p><p>[av_button la
 bel='iCal-Export' link='./feed/eo-events' link_target='' size='small' posit
 ion='center' label_display='' title_attr='' icon_select='yes' icon='ue85b' 
 font='entypo-fontello' color='custom' custom_bg='#b5123e' custom_font='#fff
 fff' av_uid='' id='' custom_class='' admin_preview_bg='']</p>
CATEGORIES:Recht interdisziplinär
LOCATION:Inland
GEO:0.000000;0.000000
ORGANIZER;CN="ViFa-Recht":MAILTO:vifa-recht@sbb.spk-berlin.de
URL;VALUE=URI:https://events.intrecht.de/termine/termin/resilienz-im-digita
 len-wandel-dgri-jahrestagung-2024/
END:VEVENT
BEGIN:VTIMEZONE
TZID:Europe/Berlin
BEGIN:STANDARD
TZOFFSETFROM:+0200
TZOFFSETTO:+0100
DTSTART:20241027T010000
TZNAME:CET
END:STANDARD
END:VTIMEZONE
END:VCALENDAR
