BEGIN:VCALENDAR
VERSION:2.0
PRODID:-//Events | FID-Recht//NONSGML Events//EN
CALSCALE:GREGORIAN
X-ORIGINAL-URL:https://events.intrecht.de/termine/
X-WR-CALDESC:Events | FID-Recht - Events
BEGIN:VEVENT
UID:20200603T1418Z-1591193923.3362-EO-587-1@172.16.200.141
STATUS:CONFIRMED
DTSTAMP:20260422T123533Z
CREATED:20240223T132616Z
LAST-MODIFIED:20240223T132616Z
DTSTART;VALUE=DATE:20240610
DTEND;VALUE=DATE:20240613
SUMMARY: Research Methods in Fundamental Rights (Workshop for PhD and Early
  Career Researchers)
DESCRIPTION: 10.-12.6.2024 / Berlin (Einreichungsfrist: 20.3.2024) https://
 www.hertie-school.org/fileadmin/2_Research/1_About_our_research/2_Research_
 centres/Centre_for_Fundamental_Rights/Event_pics/Events_2023_24/CfA_Methods
 Workshop_2024_final.pdf
X-ALT-DESC;FMTTYPE=text/html: <p>10.-12.6.2024 / Berlin <strong>(Einreichun
 gsfrist: 20.3.2024)</strong></p><p><a href="https://www.hertie-school.org/f
 ileadmin/2_Research/1_About_our_research/2_Research_centres/Centre_for_Fund
 amental_Rights/Event_pics/Events_2023_24/CfA_MethodsWorkshop_2024_final.pdf
 ">https://www.hertie-school.org/fileadmin/2_Research/1_About_our_research/2
 _Research_centres/Centre_for_Fundamental_Rights/Event_pics/Events_2023_24/C
 fA_MethodsWorkshop_2024_final.pdf</a></p><p>[av_button label='iCal-Export' 
 link='./feed/eo-events' link_target='' size='small' position='center' label
 _display='' title_attr='' icon_select='yes' icon='ue85b' font='entypo-fonte
 llo' color='custom' custom_bg='#b5123e' custom_font='#ffffff' av_uid='' id=
 '' custom_class='' admin_preview_bg='']</p>
CATEGORIES:Europäisches / Internationales Recht
LOCATION:Inland
GEO:0.000000;0.000000
ORGANIZER;CN="ViFa-Recht":MAILTO:vifa-recht@sbb.spk-berlin.de
URL;VALUE=URI:https://events.intrecht.de/termine/termin/research-methods-in
 -fundamental-rights-workshop-for-phd-and-early-career-researchers/
END:VEVENT
BEGIN:VTIMEZONE
TZID:Europe/Berlin
BEGIN:DAYLIGHT
TZOFFSETFROM:+0100
TZOFFSETTO:+0200
DTSTART:20240331T010000
TZNAME:CEST
END:DAYLIGHT
END:VTIMEZONE
END:VCALENDAR
