BEGIN:VCALENDAR
VERSION:2.0
PRODID:-//Events | FID-Recht//NONSGML Events//EN
CALSCALE:GREGORIAN
X-ORIGINAL-URL:https://events.intrecht.de/termine/
X-WR-CALDESC:Events | FID-Recht - Events
BEGIN:VEVENT
UID:20200603T1418Z-1591193923.3362-EO-587-1@172.16.200.141
STATUS:CONFIRMED
DTSTAMP:20260423T003300Z
CREATED:20250110T142902Z
LAST-MODIFIED:20250110T142902Z
DTSTART;VALUE=DATE:20250616
DTEND;VALUE=DATE:20250619
SUMMARY: Research methods in fundamental rights (Annual workshop for PhD re
 searchers and early career researchers)
DESCRIPTION: 16.-18.6.2025 / Berlin (Einreichungsfrist: 20.2.2025) https://
 www.hertie-school.org/en/fundamental-rights/research/2025-workshop-research
 -methods-in-fundamental-rights
X-ALT-DESC;FMTTYPE=text/html: <p>16.-18.6.2025 / Berlin <strong>(Einreichun
 gsfrist: 20.2.2025)</strong></p><p><a href="https://www.hertie-school.org/e
 n/fundamental-rights/research/2025-workshop-research-methods-in-fundamental
 -rights">https://www.hertie-school.org/en/fundamental-rights/research/2025-
 workshop-research-methods-in-fundamental-rights</a></p><p>[av_button label=
 'iCal-Export' link='./feed/eo-events' link_target='' size='small' position=
 'center' label_display='' title_attr='' icon_select='yes' icon='ue85b' font
 ='entypo-fontello' color='custom' custom_bg='#b5123e' custom_font='#ffffff'
  av_uid='' id='' custom_class='' admin_preview_bg='']</p>
CATEGORIES:Europäisches / Internationales Recht
LOCATION:Inland
GEO:0.000000;0.000000
ORGANIZER;CN="ViFa-Recht":MAILTO:vifa-recht@sbb.spk-berlin.de
URL;VALUE=URI:https://events.intrecht.de/termine/termin/research-methods-in
 -fundamental-rights-annual-workshop-for-phd-researchers-and-early-career-re
 searchers/
END:VEVENT
BEGIN:VTIMEZONE
TZID:Europe/Berlin
BEGIN:DAYLIGHT
TZOFFSETFROM:+0100
TZOFFSETTO:+0200
DTSTART:20250330T010000
TZNAME:CEST
END:DAYLIGHT
END:VTIMEZONE
END:VCALENDAR
