BEGIN:VCALENDAR
VERSION:2.0
PRODID:-//Events | FID-Recht//NONSGML Events//EN
CALSCALE:GREGORIAN
X-ORIGINAL-URL:https://events.intrecht.de/termine/
X-WR-CALDESC:Events | FID-Recht - Events
BEGIN:VEVENT
UID:20211117T2041Z-1637181693.2765-EO-5148-1@172.16.200.141
STATUS:CONFIRMED
DTSTAMP:20260423T073336Z
CREATED:20211116T231546Z
LAST-MODIFIED:20211116T231546Z
DTSTART;VALUE=DATE:20211125
DTEND;VALUE=DATE:20211127
SUMMARY: Representing the Absent (Online-Workshop)
DESCRIPTION: 25.-26.11.2021\, Online Max Planck Institute Luxembourg: Repre
 senting the Absent – 2ND Webinar (mpi.lu)  
X-ALT-DESC;FMTTYPE=text/html: <p>25.-26.11.2021\, Online</p><p><a href="htt
 ps://www.mpi.lu/news-and-events/2021/november/25-26/representing-the-absent
 -2nd-webinar/">Max Planck Institute Luxembourg: Representing the Absent - 2
 ND Webinar (mpi.lu)</a></p><p> </p><p>[av_button label='iCal-Export' link='
 ./feed/eo-events' link_target='' size='small' position='center' label_displ
 ay='' title_attr='' icon_select='yes' icon='ue85b' font='entypo-fontello' c
 olor='custom' custom_bg='#b5123e' custom_font='#ffffff' av_uid='' id='' cus
 tom_class='' admin_preview_bg='']</p>
CATEGORIES:Recht interdisziplinär
LOCATION:Online
GEO:0.000000;0.000000
ORGANIZER;CN="ViFa-Recht":MAILTO:vifa-recht@sbb.spk-berlin.de
URL;VALUE=URI:https://events.intrecht.de/termine/termin/representing-the-ab
 sent-online-workshop/
END:VEVENT
BEGIN:VTIMEZONE
TZID:Europe/Berlin
BEGIN:STANDARD
TZOFFSETFROM:+0200
TZOFFSETTO:+0100
DTSTART:20211031T010000
TZNAME:CET
END:STANDARD
END:VTIMEZONE
END:VCALENDAR
