BEGIN:VCALENDAR
VERSION:2.0
PRODID:-//Events | FID-Recht//NONSGML Events//EN
CALSCALE:GREGORIAN
X-ORIGINAL-URL:https://events.intrecht.de/termine/
X-WR-CALDESC:Events | FID-Recht - Events
BEGIN:VEVENT
UID:20200603T1418Z-1591193923.3362-EO-587-1@172.16.200.141
STATUS:CONFIRMED
DTSTAMP:20260422T174815Z
CREATED:20240201T094502Z
LAST-MODIFIED:20240201T094502Z
DTSTART;VALUE=DATE:20240903
DTEND;VALUE=DATE:20240907
SUMMARY: Representing Law (Research Committee on Sociology of Law (RCSL) In
 ternational Conference)
DESCRIPTION: 3.-6.9.2024 / Bangor (Einreichungsfrist: 15.2.2024) https://ww
 w.bangor.ac.uk/events/representing-law
X-ALT-DESC;FMTTYPE=text/html: <p>3.-6.9.2024 / Bangor <strong>(Einreichungs
 frist: 15.2.2024)</strong></p><p><a href="https://www.bangor.ac.uk/events/r
 epresenting-law">https://www.bangor.ac.uk/events/representing-law</a></p><p
 >[av_button label='iCal-Export' link='./feed/eo-events' link_target='' size
 ='small' position='center' label_display='' title_attr='' icon_select='yes'
  icon='ue85b' font='entypo-fontello' color='custom' custom_bg='#b5123e' cus
 tom_font='#ffffff' av_uid='' id='' custom_class='' admin_preview_bg='']</p>
CATEGORIES:Recht interdisziplinär
LOCATION:Ausland
GEO:0.000000;0.000000
ORGANIZER;CN="ViFa-Recht":MAILTO:vifa-recht@sbb.spk-berlin.de
URL;VALUE=URI:https://events.intrecht.de/termine/termin/representing-law-re
 search-committee-on-sociology-of-law-rcsl-international-conference/
END:VEVENT
BEGIN:VTIMEZONE
TZID:Europe/Berlin
BEGIN:DAYLIGHT
TZOFFSETFROM:+0100
TZOFFSETTO:+0200
DTSTART:20240331T010000
TZNAME:CEST
END:DAYLIGHT
END:VTIMEZONE
END:VCALENDAR
