BEGIN:VCALENDAR
VERSION:2.0
PRODID:-//Events | FID-Recht//NONSGML Events//EN
CALSCALE:GREGORIAN
X-ORIGINAL-URL:https://events.intrecht.de/termine/
X-WR-CALDESC:Events | FID-Recht - Events
BEGIN:VEVENT
UID:20210426T0604Z-1619417068.2459-EO-3840-1@172.16.200.141
STATUS:CONFIRMED
DTSTAMP:20260422T194258Z
CREATED:20210416T151324Z
LAST-MODIFIED:20210416T151324Z
DTSTART;VALUE=DATE:20210601
DTEND;VALUE=DATE:20210601
SUMMARY: Repräsentiert? Paritätsgesetze und Alternativen (Werkstattgespräch
  im Rahmen der Reihe „Qualen der Wahl – Herausforderungen demokratischer Re
 präsentation“ mit Lea Rabe und Vanessa Wintermantel) (Online-Gespräch)
DESCRIPTION: 1.6.2021\, Online https://www.rewi.hu-berlin.de/de/lf/oe/lsi/v
 eranstaltungen/werkstattgespraeche/index.html  
X-ALT-DESC;FMTTYPE=text/html: <p>1.6.2021\, Online</p><p><a href="https://w
 ww.rewi.hu-berlin.de/de/lf/oe/lsi/veranstaltungen/werkstattgespraeche/index
 .html">https://www.rewi.hu-berlin.de/de/lf/oe/lsi/veranstaltungen/werkstatt
 gespraeche/index.html</a></p><p> </p><p>[av_button label='iCal-Export' link
 ='./feed/eo-events' link_target='' size='small' position='center' label_dis
 play='' title_attr='' icon_select='yes' icon='ue85b' font='entypo-fontello'
  color='custom' custom_bg='#b5123e' custom_font='#ffffff' av_uid='' id='' c
 ustom_class='' admin_preview_bg='']</p>
CATEGORIES:Öffentliches Recht,Recht interdisziplinär
LOCATION:Online
GEO:0.000000;0.000000
ORGANIZER;CN="ViFa-Recht":MAILTO:vifa-recht@sbb.spk-berlin.de
URL;VALUE=URI:https://events.intrecht.de/termine/termin/repraesentiert-pari
 taetsgesetze-und-alternativen-werkstattgespraech-im-rahmen-der-reihe-qualen
 -der-wahl-herausforderungen-demokratischer-repraesentation-mit-lea-rabe-und
 /
END:VEVENT
BEGIN:VTIMEZONE
TZID:Europe/Berlin
BEGIN:DAYLIGHT
TZOFFSETFROM:+0100
TZOFFSETTO:+0200
DTSTART:20210328T010000
TZNAME:CEST
END:DAYLIGHT
END:VTIMEZONE
END:VCALENDAR
