BEGIN:VCALENDAR
VERSION:2.0
PRODID:-//Events | FID-Recht//NONSGML Events//EN
CALSCALE:GREGORIAN
X-ORIGINAL-URL:https://events.intrecht.de/termine/
X-WR-CALDESC:Events | FID-Recht - Events
BEGIN:VEVENT
UID:20210115T0744Z-1610696699.1659-EO-2523-1@172.16.200.141
STATUS:CONFIRMED
DTSTAMP:20260421T133515Z
CREATED:20210114T162104Z
LAST-MODIFIED:20210114T163048Z
DTSTART;TZID=Europe/Berlin:20210126T180000
DTEND;TZID=Europe/Berlin:20210126T200000
SUMMARY: Religion und die digitale Gesellschaft im 21. Jahrhundert (mit Hei
 nrich Bedford-Strohm) (Online-Vortrag)
DESCRIPTION: 26.1.2021\, Online https://www.jura.uni-passau.de/fileadmin/do
 kumente/fakultaeten/jura/lehrstuehle/hennemann/Plakat_Reihe_Digitale_Gesell
 schaft_Religion_Bedford-Strohm_26_Januar_2021.pdf  
X-ALT-DESC;FMTTYPE=text/html: <p>26.1.2021\, Online</p><p><a href="https://
 www.jura.uni-passau.de/fileadmin/dokumente/fakultaeten/jura/lehrstuehle/hen
 nemann/Plakat_Reihe_Digitale_Gesellschaft_Religion_Bedford-Strohm_26_Januar
 _2021.pdf">https://www.jura.uni-passau.de/fileadmin/dokumente/fakultaeten/j
 ura/lehrstuehle/hennemann/Plakat_Reihe_Digitale_Gesellschaft_Religion_Bedfo
 rd-Strohm_26_Januar_2021.pdf</a></p><p> </p><p>[av_button label='iCal-Expor
 t' link='./feed/eo-events' link_target='' size='small' position='center' la
 bel_display='' title_attr='' icon_select='yes' icon='ue85b' font='entypo-fo
 ntello' color='custom' custom_bg='#b5123e' custom_font='#ffffff' av_uid='' 
 id='' custom_class='' admin_preview_bg='']</p>
CATEGORIES:Recht interdisziplinär
LOCATION:Online
GEO:0.000000;0.000000
ORGANIZER;CN="ViFa-Recht":MAILTO:vifa-recht@sbb.spk-berlin.de
URL;VALUE=URI:https://events.intrecht.de/termine/termin/religion-und-die-di
 gitale-gesellschaft-im-21-jahrhundert-mit-heinrich-bedford-strohm-online-vo
 rtrag/
END:VEVENT
BEGIN:VTIMEZONE
TZID:Europe/Berlin
BEGIN:STANDARD
TZOFFSETFROM:+0200
TZOFFSETTO:+0100
DTSTART:20201025T010000
TZNAME:CET
END:STANDARD
END:VTIMEZONE
END:VCALENDAR
