BEGIN:VCALENDAR
VERSION:2.0
PRODID:-//Events | FID-Recht//NONSGML Events//EN
CALSCALE:GREGORIAN
X-ORIGINAL-URL:https://events.intrecht.de/termine/
X-WR-CALDESC:Events | FID-Recht - Events
BEGIN:VEVENT
UID:20200603T1418Z-1591193923.3362-EO-587-1@172.16.200.141
STATUS:CONFIRMED
DTSTAMP:20260425T181244Z
CREATED:20231031T122341Z
LAST-MODIFIED:20231031T122341Z
DTSTART;VALUE=DATE:20240412
DTEND;VALUE=DATE:20240414
SUMMARY: Reimagining the Public-Private Divide (10th Annual Junior Scholars
  Conference / University of Michigan Law School)
DESCRIPTION: 12.-13.4.2024 / Ann Arbor (Einreichungsfrist: 5.1.2024) https:
 //michigan.law.umich.edu/junior-scholars-conference#welcome
X-ALT-DESC;FMTTYPE=text/html: <p>12.-13.4.2024 / Ann Arbor <strong>(Einreic
 hungsfrist: 5.1.2024)</strong></p><p><a href="https://michigan.law.umich.ed
 u/junior-scholars-conference#welcome">https://michigan.law.umich.edu/junior
 -scholars-conference#welcome</a></p><p>[av_button label='iCal-Export' link=
 './feed/eo-events' link_target='' size='small' position='center' label_disp
 lay='' title_attr='' icon_select='yes' icon='ue85b' font='entypo-fontello' 
 color='custom' custom_bg='#b5123e' custom_font='#ffffff' av_uid='' id='' cu
 stom_class='' admin_preview_bg='']</p>
CATEGORIES:Recht interdisziplinär
LOCATION:Ausland
GEO:0.000000;0.000000
ORGANIZER;CN="ViFa-Recht":MAILTO:vifa-recht@sbb.spk-berlin.de
URL;VALUE=URI:https://events.intrecht.de/termine/termin/reimagining-the-pub
 lic-private-divide-10th-annual-junior-scholars-conference-university-of-mic
 higan-law-school/
END:VEVENT
BEGIN:VTIMEZONE
TZID:Europe/Berlin
BEGIN:DAYLIGHT
TZOFFSETFROM:+0100
TZOFFSETTO:+0200
DTSTART:20240331T010000
TZNAME:CEST
END:DAYLIGHT
END:VTIMEZONE
END:VCALENDAR
