BEGIN:VCALENDAR
VERSION:2.0
PRODID:-//Events | FID-Recht//NONSGML Events//EN
CALSCALE:GREGORIAN
X-ORIGINAL-URL:https://events.intrecht.de/termine/
X-WR-CALDESC:Events | FID-Recht - Events
BEGIN:VEVENT
UID:20200603T1418Z-1591193923.3362-EO-587-1@172.16.200.141
STATUS:CONFIRMED
DTSTAMP:20260423T003431Z
CREATED:20250218T083256Z
LAST-MODIFIED:20250218T083256Z
DTSTART;VALUE=DATE:20250613
DTEND;VALUE=DATE:20250616
SUMMARY: Reimagining Feminist Legal Futures in a Changing World (Sommerakad
 emie Feministische Rechtswissenschaft 2025)
DESCRIPTION: 13.-15.6.2025 / Hamburg https://slsa.ac.uk/images/2025_winter/
 Call_for_Speakers__2025__B.2.pdf
X-ALT-DESC;FMTTYPE=text/html: <p>13.-15.6.2025 / Hamburg</p><p><a href="htt
 ps://slsa.ac.uk/images/2025_winter/Call_for_Speakers__2025__B.2.pdf">https:
 //slsa.ac.uk/images/2025_winter/Call_for_Speakers__2025__B.2.pdf</a></p><p>
 [av_button label='iCal-Export' link='./feed/eo-events' link_target='' size=
 'small' position='center' label_display='' title_attr='' icon_select='yes' 
 icon='ue85b' font='entypo-fontello' color='custom' custom_bg='#b5123e' cust
 om_font='#ffffff' av_uid='' id='' custom_class='' admin_preview_bg='']</p>
CATEGORIES:Recht interdisziplinär
LOCATION:Inland
GEO:0.000000;0.000000
ORGANIZER;CN="ViFa-Recht":MAILTO:vifa-recht@sbb.spk-berlin.de
URL;VALUE=URI:https://events.intrecht.de/termine/termin/reimagining-feminis
 t-legal-futures-in-a-changing-world-sommerakademie-feministische-rechtswiss
 enschaft-2025/
END:VEVENT
BEGIN:VTIMEZONE
TZID:Europe/Berlin
BEGIN:DAYLIGHT
TZOFFSETFROM:+0100
TZOFFSETTO:+0200
DTSTART:20250330T010000
TZNAME:CEST
END:DAYLIGHT
END:VTIMEZONE
END:VCALENDAR
