BEGIN:VCALENDAR
VERSION:2.0
PRODID:-//Events | FID-Recht//NONSGML Events//EN
CALSCALE:GREGORIAN
X-ORIGINAL-URL:https://events.intrecht.de/termine/
X-WR-CALDESC:Events | FID-Recht - Events
BEGIN:VEVENT
UID:20210908T2045Z-1631133948.3449-EO-4424-1@172.16.200.141
STATUS:CONFIRMED
DTSTAMP:20260423T005526Z
CREATED:20210907T072855Z
LAST-MODIFIED:20210907T072904Z
DTSTART;VALUE=DATE:20210909
DTEND;VALUE=DATE:20210911
SUMMARY: Regulierung von Kommunikationsplattformen (Österreichisches Rundfu
 nkforum 2021) (Konferenz)
DESCRIPTION: 9.-10.9.2021\, Wien REM_Programm_2021.pdf (wu.ac.at)  
X-ALT-DESC;FMTTYPE=text/html: <p>9.-10.9.2021\, Wien</p><p><a href="https:/
 /www.wu.ac.at/fileadmin/wu/d/i/ioer/Sonstige_Bilder_und_Unterlagen/Veransta
 ltungen/REM_Programm_2021.pdf">REM_Programm_2021.pdf (wu.ac.at)</a></p><p> 
 </p><p>[av_button label='iCal-Export' link='./feed/eo-events' link_target='
 ' size='small' position='center' label_display='' title_attr='' icon_select
 ='yes' icon='ue85b' font='entypo-fontello' color='custom' custom_bg='#b5123
 e' custom_font='#ffffff' av_uid='' id='' custom_class='' admin_preview_bg='
 ']</p>
CATEGORIES:Öffentliches Recht,Recht interdisziplinär,Strafrecht
LOCATION:Ausland
GEO:0.000000;0.000000
ORGANIZER;CN="ViFa-Recht":MAILTO:vifa-recht@sbb.spk-berlin.de
URL;VALUE=URI:https://events.intrecht.de/termine/termin/regulierung-von-kom
 munikationsplattformen-oesterreichisches-rundfunkforum-konferenz/
END:VEVENT
BEGIN:VTIMEZONE
TZID:Europe/Berlin
BEGIN:DAYLIGHT
TZOFFSETFROM:+0100
TZOFFSETTO:+0200
DTSTART:20210328T010000
TZNAME:CEST
END:DAYLIGHT
END:VTIMEZONE
END:VCALENDAR
