BEGIN:VCALENDAR
VERSION:2.0
PRODID:-//Events | FID-Recht//NONSGML Events//EN
CALSCALE:GREGORIAN
X-ORIGINAL-URL:https://events.intrecht.de/termine/
X-WR-CALDESC:Events | FID-Recht - Events
BEGIN:VEVENT
UID:20200603T1418Z-1591193923.3362-EO-587-1@172.16.200.141
STATUS:CONFIRMED
DTSTAMP:20260423T055149Z
CREATED:20240314T094143Z
LAST-MODIFIED:20240314T094143Z
DTSTART;VALUE=DATE:20240320
DTEND;VALUE=DATE:20240321
SUMMARY: Regulating Digital Markets in Turkey: Harmony or Mishmash? (Virtua
 l Lecture / “Current Research on Turkish Law”)
DESCRIPTION: 20.3.2024 / Online https://events.mpipriv.de/current_research_
 on_turkish_law_with_ekin_korkmaz_goeka
X-ALT-DESC;FMTTYPE=text/html: <p>20.3.2024 / Online</p><p><a href="https://
 events.mpipriv.de/current_research_on_turkish_law_with_ekin_korkmaz_goeka">
 https://events.mpipriv.de/current_research_on_turkish_law_with_ekin_korkmaz
 _goeka</a></p><p>[av_button label='iCal-Export' link='./feed/eo-events' lin
 k_target='' size='small' position='center' label_display='' title_attr='' i
 con_select='yes' icon='ue85b' font='entypo-fontello' color='custom' custom_
 bg='#b5123e' custom_font='#ffffff' av_uid='' id='' custom_class='' admin_pr
 eview_bg='']</p>
CATEGORIES:Zivilrecht
LOCATION:Online
GEO:0.000000;0.000000
ORGANIZER;CN="ViFa-Recht":MAILTO:vifa-recht@sbb.spk-berlin.de
URL;VALUE=URI:https://events.intrecht.de/termine/termin/regulating-digital-
 markets-in-turkey-harmony-or-mishmash-virtual-lecture-current-research-on-t
 urkish-law/
END:VEVENT
BEGIN:VTIMEZONE
TZID:Europe/Berlin
BEGIN:STANDARD
TZOFFSETFROM:+0200
TZOFFSETTO:+0100
DTSTART:20231029T010000
TZNAME:CET
END:STANDARD
END:VTIMEZONE
END:VCALENDAR
