BEGIN:VCALENDAR
VERSION:2.0
PRODID:-//Events | FID-Recht//NONSGML Events//EN
CALSCALE:GREGORIAN
X-ORIGINAL-URL:https://events.intrecht.de/termine/
X-WR-CALDESC:Events | FID-Recht - Events
BEGIN:VEVENT
UID:20200709T1332Z-1594301576.9697-EO-1182-1@172.16.200.141
STATUS:CONFIRMED
DTSTAMP:20260421T102405Z
CREATED:20200708T174038Z
LAST-MODIFIED:20200708T174347Z
DTSTART;VALUE=DATE:20200709
DTEND;VALUE=DATE:20200709
SUMMARY: RegTech and SupTech – Emerging Trends\, Opportunities and Challeng
 es (LFT Lunchtime Workshop)
DESCRIPTION: 9.7.2020\, 12.30-13.30 Uhr\, Online https://www.jura.uni-hambu
 rg.de/forschung/institute-forschungsstellen-und-zentren/institut-recht-oeko
 nomik/news-und-events/lft/news-lft/2020-07-09.html    
X-ALT-DESC;FMTTYPE=text/html: <p><strong>9.7.2020\, 12.30-13.30 Uhr\, Onlin
 e</strong></p><p><a href="https://www.jura.uni-hamburg.de/forschung/institu
 te-forschungsstellen-und-zentren/institut-recht-oekonomik/news-und-events/l
 ft/news-lft/2020-07-09.html">https://www.jura.uni-hamburg.de/forschung/inst
 itute-forschungsstellen-und-zentren/institut-recht-oekonomik/news-und-event
 s/lft/news-lft/2020-07-09.html</a></p><p><strong> </strong></p><p> </p><p>[
 av_button label='iCal-Export' link='./feed/eo-events' link_target='' size='
 small' position='center' label_display='' title_attr='' icon_select='yes' i
 con='ue85b' font='entypo-fontello' color='custom' custom_bg='#b5123e' custo
 m_font='#ffffff' av_uid='' id='' custom_class='' admin_preview_bg='']</p>
CATEGORIES:Recht interdisziplinär
LOCATION:Online
GEO:0.000000;0.000000
ORGANIZER;CN="ViFa-Recht":MAILTO:vifa-recht@sbb.spk-berlin.de
URL;VALUE=URI:https://events.intrecht.de/termine/termin/regtech-and-suptech
 -emerging-trends-opportunities-and-challenges-lft-lunchtime-workshop/
END:VEVENT
BEGIN:VTIMEZONE
TZID:Europe/Berlin
BEGIN:DAYLIGHT
TZOFFSETFROM:+0100
TZOFFSETTO:+0200
DTSTART:20200329T010000
TZNAME:CEST
END:DAYLIGHT
END:VTIMEZONE
END:VCALENDAR
