BEGIN:VCALENDAR
VERSION:2.0
PRODID:-//Events | FID-Recht//NONSGML Events//EN
CALSCALE:GREGORIAN
X-ORIGINAL-URL:https://events.intrecht.de/termine/
X-WR-CALDESC:Events | FID-Recht - Events
BEGIN:VEVENT
UID:20210131T0410Z-1612066232.1091-EO-3053-1@172.16.200.141
STATUS:CONFIRMED
DTSTAMP:20260422T230705Z
CREATED:20210126T202231Z
LAST-MODIFIED:20210129T144123Z
DTSTART;TZID=Europe/Berlin:20210203T150000
DTEND;TZID=Europe/Berlin:20210203T170000
SUMMARY: Regionalización y traducción cultural del derecho Canónico en Indi
 as? (DCH Workshop) (Online-Konferenz)
DESCRIPTION: 3.2.2021\, Online https://www.rg.mpg.de/2452535/event-21-02-03
 -regionalizacion-y-traduccion.html    
X-ALT-DESC;FMTTYPE=text/html: <p>3.2.2021\, Online</p><p><a href="https://w
 ww.rg.mpg.de/2452535/event-21-02-03-regionalizacion-y-traduccion.html">http
 s://www.rg.mpg.de/2452535/event-21-02-03-regionalizacion-y-traduccion.html<
 /a></p><p> </p><p> </p><p>[av_button label='iCal-Export' link='./feed/eo-ev
 ents' link_target='' size='small' position='center' label_display='' title_
 attr='' icon_select='yes' icon='ue85b' font='entypo-fontello' color='custom
 ' custom_bg='#b5123e' custom_font='#ffffff' av_uid='' id='' custom_class=''
  admin_preview_bg='']</p>
CATEGORIES:Europäisches / Internationales Recht,Recht interdisziplinär
LOCATION:Online
GEO:0.000000;0.000000
ORGANIZER;CN="ViFa-Recht":MAILTO:vifa-recht@sbb.spk-berlin.de
URL;VALUE=URI:https://events.intrecht.de/termine/termin/regionalizacion-y-t
 raduccion-cultural-del-derecho-canonico-en-indias-dch-workshop-online-konfe
 renz/
END:VEVENT
BEGIN:VTIMEZONE
TZID:Europe/Berlin
BEGIN:STANDARD
TZOFFSETFROM:+0200
TZOFFSETTO:+0100
DTSTART:20201025T010000
TZNAME:CET
END:STANDARD
END:VTIMEZONE
END:VCALENDAR
