BEGIN:VCALENDAR
VERSION:2.0
PRODID:-//Events | FID-Recht//NONSGML Events//EN
CALSCALE:GREGORIAN
X-ORIGINAL-URL:https://events.intrecht.de/termine/
X-WR-CALDESC:Events | FID-Recht - Events
BEGIN:VEVENT
UID:20220204T1040Z-1643971241.5443-EO-5836-1@172.16.200.141
STATUS:CONFIRMED
DTSTAMP:20260421T171226Z
CREATED:20220127T200445Z
LAST-MODIFIED:20220127T200445Z
DTSTART;VALUE=DATE:20220131
DTEND;VALUE=DATE:20220131
SUMMARY: Reforming the EU Treaties (5th Young  European  Law  Scholars  Con
 ference) (Tagung) (CfP)
DESCRIPTION: 3.6.2022\, Innsbruck (Frist für Einreichungen: 31.1.2022) 5th 
 Conference of Young European Law Scholars (uibk.ac.at)  
X-ALT-DESC;FMTTYPE=text/html: <p>3.6.2022\, Innsbruck (Frist für Einreichun
 gen: 31.1.2022)</p><p><a href="https://www.uibk.ac.at/congress/yels2022/">5
 th Conference of Young European Law Scholars (uibk.ac.at)</a></p><p> </p><p
 >[av_button label='iCal-Export' link='./feed/eo-events' link_target='' size
 ='small' position='center' label_display='' title_attr='' icon_select='yes'
  icon='ue85b' font='entypo-fontello' color='custom' custom_bg='#b5123e' cus
 tom_font='#ffffff' av_uid='' id='' custom_class='' admin_preview_bg='']</p>
CATEGORIES:Europäisches / Internationales Recht
LOCATION:Ausland
GEO:0.000000;0.000000
ORGANIZER;CN="ViFa-Recht":MAILTO:vifa-recht@sbb.spk-berlin.de
URL;VALUE=URI:https://events.intrecht.de/termine/termin/reforming-the-eu-tr
 eaties-5th-young-european-law-scholars-conference-tagung-cfp/
END:VEVENT
BEGIN:VTIMEZONE
TZID:Europe/Berlin
BEGIN:STANDARD
TZOFFSETFROM:+0200
TZOFFSETTO:+0100
DTSTART:20211031T010000
TZNAME:CET
END:STANDARD
END:VTIMEZONE
END:VCALENDAR
