BEGIN:VCALENDAR
VERSION:2.0
PRODID:-//Events | FID-Recht//NONSGML Events//EN
CALSCALE:GREGORIAN
X-ORIGINAL-URL:https://events.intrecht.de/termine/
X-WR-CALDESC:Events | FID-Recht - Events
BEGIN:VEVENT
UID:20200603T1418Z-1591193923.3362-EO-587-1@172.16.200.141
STATUS:CONFIRMED
DTSTAMP:20260422T110421Z
CREATED:20240116T093658Z
LAST-MODIFIED:20240116T093658Z
DTSTART;VALUE=DATE:20240130
DTEND;VALUE=DATE:20240131
SUMMARY: Reflections on a Career in International Criminal Law: Intersectio
 nality and Representation (Online Event)
DESCRIPTION: 30.1.2024 / Online https://law.mpg.de/event/reflections-on-a-c
 areer-in-international-criminal-law-intersectionality-and-representation/
X-ALT-DESC;FMTTYPE=text/html: <p>30.1.2024 / Online</p><p><a href="https://
 law.mpg.de/event/reflections-on-a-career-in-international-criminal-law-inte
 rsectionality-and-representation/">https://law.mpg.de/event/reflections-on-
 a-career-in-international-criminal-law-intersectionality-and-representation
 /</a></p><p>[av_button label='iCal-Export' link='./feed/eo-events' link_tar
 get='' size='small' position='center' label_display='' title_attr='' icon_s
 elect='yes' icon='ue85b' font='entypo-fontello' color='custom' custom_bg='#
 b5123e' custom_font='#ffffff' av_uid='' id='' custom_class='' admin_preview
 _bg='']</p>
CATEGORIES:Recht interdisziplinär
LOCATION:Online
GEO:0.000000;0.000000
ORGANIZER;CN="ViFa-Recht":MAILTO:vifa-recht@sbb.spk-berlin.de
URL;VALUE=URI:https://events.intrecht.de/termine/termin/reflections-on-a-ca
 reer-in-international-criminal-law-intersectionality-and-representation-onl
 ine-event/
END:VEVENT
BEGIN:VTIMEZONE
TZID:Europe/Berlin
BEGIN:STANDARD
TZOFFSETFROM:+0200
TZOFFSETTO:+0100
DTSTART:20231029T010000
TZNAME:CET
END:STANDARD
END:VTIMEZONE
END:VCALENDAR
