BEGIN:VCALENDAR
VERSION:2.0
PRODID:-//Events | FID-Recht//NONSGML Events//EN
CALSCALE:GREGORIAN
X-ORIGINAL-URL:https://events.intrecht.de/termine/
X-WR-CALDESC:Events | FID-Recht - Events
BEGIN:VEVENT
UID:20201112T0107Z-1605143238.0943-EO-2211-1@172.16.200.141
STATUS:CONFIRMED
DTSTAMP:20260420T112830Z
CREATED:20201110T190852Z
LAST-MODIFIED:20201110T190852Z
DTSTART;VALUE=DATE:20201130
DTEND;VALUE=DATE:20201130
SUMMARY: Redressing Historical Injustice: Caribbean Claims for Slavery Repa
 rations (mit Claudia Rauhut) (Online-Vortrag)
DESCRIPTION: 30.11.2020\, Online https://www.dependency.uni-bonn.de/en/even
 ts/redressing-historical-injustice-caribbean-claims-for-slavery-reparations
   
X-ALT-DESC;FMTTYPE=text/html: <p>30.11.2020\, Online</p><p><a href="https:/
 /www.dependency.uni-bonn.de/en/events/redressing-historical-injustice-carib
 bean-claims-for-slavery-reparations">https://www.dependency.uni-bonn.de/en/
 events/redressing-historical-injustice-caribbean-claims-for-slavery-reparat
 ions</a></p><p> </p><p>[av_button label='iCal-Export' link='./feed/eo-event
 s' link_target='' size='small' position='center' label_display='' title_att
 r='' icon_select='yes' icon='ue85b' font='entypo-fontello' color='custom' c
 ustom_bg='#b5123e' custom_font='#ffffff' av_uid='' id='' custom_class='' ad
 min_preview_bg='']</p>
CATEGORIES:Europäisches / Internationales Recht,Recht interdisziplinär
LOCATION:Online
GEO:0.000000;0.000000
ORGANIZER;CN="ViFa-Recht":MAILTO:vifa-recht@sbb.spk-berlin.de
URL;VALUE=URI:https://events.intrecht.de/termine/termin/redressing-historic
 al-injustice-caribbean-claims-for-slavery-reparations-mit-claudia-rauhut-on
 line-vortrag/
END:VEVENT
BEGIN:VTIMEZONE
TZID:Europe/Berlin
BEGIN:STANDARD
TZOFFSETFROM:+0200
TZOFFSETTO:+0100
DTSTART:20201025T010000
TZNAME:CET
END:STANDARD
END:VTIMEZONE
END:VCALENDAR
