BEGIN:VCALENDAR
VERSION:2.0
PRODID:-//Events | FID-Recht//NONSGML Events//EN
CALSCALE:GREGORIAN
X-ORIGINAL-URL:https://events.intrecht.de/termine/
X-WR-CALDESC:Events | FID-Recht - Events
BEGIN:VEVENT
UID:20200603T1418Z-1591193923.3362-EO-587-1@172.16.200.141
STATUS:CONFIRMED
DTSTAMP:20260425T133859Z
CREATED:20250724T075140Z
LAST-MODIFIED:20250724T075140Z
DTSTART;VALUE=DATE:20251127
DTEND;VALUE=DATE:20251129
SUMMARY: Reconsidering Legal Subjectivity In and Through the Anthropocene (
 Workshop)
DESCRIPTION: 27.-28.11.2025 / Frankfurt am Main (Einreichungsfrist: 31.8.20
 25) https://soziologie.de/fileadmin/user_upload/calls/2025/07/CfP_Conferenc
 e_RiA_Nov2025.pdf
X-ALT-DESC;FMTTYPE=text/html: <p>27.-28.11.2025 / Frankfurt am Main <strong
 >(Einreichungsfrist: 31.8.2025)</strong></p><p><a href="https://soziologie.
 de/fileadmin/user_upload/calls/2025/07/CfP_Conference_RiA_Nov2025.pdf">http
 s://soziologie.de/fileadmin/user_upload/calls/2025/07/CfP_Conference_RiA_No
 v2025.pdf</a></p><p>[av_button label='iCal-Export' link='./feed/eo-events' 
 link_target='' size='small' position='center' label_display='' title_attr='
 ' icon_select='yes' icon='ue85b' font='entypo-fontello' color='custom' cust
 om_bg='#b5123e' custom_font='#ffffff' av_uid='' id='' custom_class='' admin
 _preview_bg='']</p>
CATEGORIES:Recht interdisziplinär
LOCATION:Inland
GEO:0.000000;0.000000
ORGANIZER;CN="ViFa-Recht":MAILTO:vifa-recht@sbb.spk-berlin.de
URL;VALUE=URI:https://events.intrecht.de/termine/termin/reconsidering-legal
 -subjectivity-in-and-through-the-anthropocene-workshop/
END:VEVENT
BEGIN:VTIMEZONE
TZID:Europe/Berlin
BEGIN:STANDARD
TZOFFSETFROM:+0200
TZOFFSETTO:+0100
DTSTART:20251026T010000
TZNAME:CET
END:STANDARD
END:VTIMEZONE
END:VCALENDAR
