BEGIN:VCALENDAR
VERSION:2.0
PRODID:-//Events | FID-Recht//NONSGML Events//EN
CALSCALE:GREGORIAN
X-ORIGINAL-URL:https://events.intrecht.de/termine/
X-WR-CALDESC:Events | FID-Recht - Events
BEGIN:VEVENT
UID:20200928T0044Z-1601253891.5023-EO-1526-1@172.16.200.141
STATUS:CONFIRMED
DTSTAMP:20260422T160601Z
CREATED:20200922T165036Z
LAST-MODIFIED:20200922T165036Z
DTSTART;VALUE=DATE:20200916
DTEND;VALUE=DATE:20200920
SUMMARY: Reconceptualising Wage Labour (First Annual Conference of the new 
 EU Cooperation in Science and Technology (COST) Worlds of Related Coercions
  in Work (WORCK) (Konferenz)
DESCRIPTION: 16.-19.9.2020\, Budapest https://www.worck.eu/conference-1-202
 0-budapest/  
X-ALT-DESC;FMTTYPE=text/html: <p>16.-19.9.2020\, Budapest</p><p><a href="ht
 tps://www.worck.eu/conference-1-2020-budapest/">https://www.worck.eu/confer
 ence-1-2020-budapest/</a></p><p> </p><p>[av_button label='iCal-Export' link
 ='./feed/eo-events' link_target='' size='small' position='center' label_dis
 play='' title_attr='' icon_select='yes' icon='ue85b' font='entypo-fontello'
  color='custom' custom_bg='#b5123e' custom_font='#ffffff' av_uid='' id='' c
 ustom_class='' admin_preview_bg='']</p>
CATEGORIES:Europäisches / Internationales Recht
LOCATION:Ausland
GEO:0.000000;0.000000
ORGANIZER;CN="ViFa-Recht":MAILTO:vifa-recht@sbb.spk-berlin.de
URL;VALUE=URI:https://events.intrecht.de/termine/termin/reconceptualising-w
 age-labour-first-annual-conference-of-the-new-eu-cooperation-in-science-and
 -technology-cost-worlds-of-related-coercions-in-work-worck-konferenz/
END:VEVENT
BEGIN:VTIMEZONE
TZID:Europe/Berlin
BEGIN:DAYLIGHT
TZOFFSETFROM:+0100
TZOFFSETTO:+0200
DTSTART:20200329T010000
TZNAME:CEST
END:DAYLIGHT
END:VTIMEZONE
END:VCALENDAR
