BEGIN:VCALENDAR
VERSION:2.0
PRODID:-//Events | FID-Recht//NONSGML Events//EN
CALSCALE:GREGORIAN
X-ORIGINAL-URL:https://events.intrecht.de/termine/
X-WR-CALDESC:Events | FID-Recht - Events
BEGIN:VEVENT
UID:20210426T0559Z-1619416785.2828-EO-3575-1@172.16.200.141
STATUS:CONFIRMED
DTSTAMP:20260423T042410Z
CREATED:20210421T084120Z
LAST-MODIFIED:20210421T084120Z
DTSTART;VALUE=DATE:20210517
DTEND;VALUE=DATE:20210517
SUMMARY: Rechtsvergleichung zwischen Transaktionskosten und politischer Öko
 nomie am Beispiel der Kapitalgesellschaft (Ernst-Rabel-Vorlesung 2021 mit K
 atharina Pistor) ((Online-)Vortrag)
DESCRIPTION: 17.5.2021\, Online/Hamburg https://www.mpipriv.de/1286618/erns
 t-rabel-vorlesung-2021.html  
X-ALT-DESC;FMTTYPE=text/html: <p>17.5.2021\, Online/Hamburg</p><p><a href="
 https://www.mpipriv.de/1286618/ernst-rabel-vorlesung-2021.html">https://www
 .mpipriv.de/1286618/ernst-rabel-vorlesung-2021.html</a></p><p> </p><p>[av_b
 utton label='iCal-Export' link='./feed/eo-events' link_target='' size='smal
 l' position='center' label_display='' title_attr='' icon_select='yes' icon=
 'ue85b' font='entypo-fontello' color='custom' custom_bg='#b5123e' custom_fo
 nt='#ffffff' av_uid='' id='' custom_class='' admin_preview_bg='']</p>
CATEGORIES:Recht interdisziplinär
LOCATION:Online
GEO:0.000000;0.000000
ORGANIZER;CN="ViFa-Recht":MAILTO:vifa-recht@sbb.spk-berlin.de
URL;VALUE=URI:https://events.intrecht.de/termine/termin/rechtsvergleichung-
 zwischen-transaktionskosten-und-politischer-oekonomie-am-beispiel-der-kapit
 algesellschaft-ernst-rabel-vorlesung-2021-mit-katharina-pistor-online-vortr
 ag/
END:VEVENT
BEGIN:VTIMEZONE
TZID:Europe/Berlin
BEGIN:DAYLIGHT
TZOFFSETFROM:+0100
TZOFFSETTO:+0200
DTSTART:20210328T010000
TZNAME:CEST
END:DAYLIGHT
END:VTIMEZONE
END:VCALENDAR
