BEGIN:VCALENDAR
VERSION:2.0
PRODID:-//Events | FID-Recht//NONSGML Events//EN
CALSCALE:GREGORIAN
X-ORIGINAL-URL:https://events.intrecht.de/termine/
X-WR-CALDESC:Events | FID-Recht - Events
BEGIN:VEVENT
UID:20200709T1416Z-1594304209.7472-EO-1156-1@172.16.200.141
STATUS:CONFIRMED
DTSTAMP:20260421T184219Z
CREATED:20200626T153320Z
LAST-MODIFIED:20201007T135334Z
DTSTART;VALUE=DATE:20210311
DTEND;VALUE=DATE:20210314
SUMMARY: VERSCHOBEN: Rechtsstaat und Demokratie unter Druck – Perspektiven 
 in der sozialen und ökologischen Krise (Konferenz)
DESCRIPTION: VERSCHOEN AUF 24.-26.3.2022\, Wien Tagung
X-ALT-DESC;FMTTYPE=text/html: <p>VERSCHOEN AUF 24.-26.3.2022\, Wien</p><p>h
 ttps://www.rechtsstaat-unter-druck.at/</p><p>[av_button label='iCal-Export'
  link='./feed/eo-events' link_target='' size='small' position='center' labe
 l_display='' title_attr='' icon_select='yes' icon='ue85b' font='entypo-font
 ello' color='custom' custom_bg='#b5123e' custom_font='#ffffff' av_uid='' id
 ='' custom_class='' admin_preview_bg='']</p>
CATEGORIES:Öffentliches Recht
LOCATION:Ausland
GEO:0.000000;0.000000
ORGANIZER;CN="ViFa-Recht":MAILTO:vifa-recht@sbb.spk-berlin.de
URL;VALUE=URI:https://events.intrecht.de/termine/termin/rechtsstaat-und-dem
 okratie-unter-druck-perspektiven-in-der-sozialen-und-oekologischen-krise-ko
 nferenz/
END:VEVENT
BEGIN:VTIMEZONE
TZID:Europe/Berlin
BEGIN:STANDARD
TZOFFSETFROM:+0200
TZOFFSETTO:+0100
DTSTART:20201025T010000
TZNAME:CET
END:STANDARD
END:VTIMEZONE
END:VCALENDAR
