BEGIN:VCALENDAR
VERSION:2.0
PRODID:-//Events | FID-Recht//NONSGML Events//EN
CALSCALE:GREGORIAN
X-ORIGINAL-URL:https://events.intrecht.de/termine/
X-WR-CALDESC:Events | FID-Recht - Events
BEGIN:VEVENT
UID:20200603T1418Z-1591193923.3362-EO-587-1@172.16.200.141
STATUS:CONFIRMED
DTSTAMP:20260422T225232Z
CREATED:20240125T100213Z
LAST-MODIFIED:20240125T100213Z
DTSTART;VALUE=DATE:20240620
DTEND;VALUE=DATE:20240623
SUMMARY: Rechtssicherheit im Wandel der Zeit (2. Tagung des jungen Netzwerk
 s Rechtsgeschichte)
DESCRIPTION: 20.-22.6.2024 / Wien https://nachwuchstagung2024rg.univie.ac.a
 t/fileadmin/user_upload/p_nachwuchstagung2024rg/CFP_Nachwuchstagung_Rechtsg
 eschichte.pdf
X-ALT-DESC;FMTTYPE=text/html: <p>20.-22.6.2024 / Wien</p><p><a href="https:
 //nachwuchstagung2024rg.univie.ac.at/fileadmin/user_upload/p_nachwuchstagun
 g2024rg/CFP_Nachwuchstagung_Rechtsgeschichte.pdf">https://nachwuchstagung20
 24rg.univie.ac.at/fileadmin/user_upload/p_nachwuchstagung2024rg/CFP_Nachwuc
 hstagung_Rechtsgeschichte.pdf</a></p><p>[av_button label='iCal-Export' link
 ='./feed/eo-events' link_target='' size='small' position='center' label_dis
 play='' title_attr='' icon_select='yes' icon='ue85b' font='entypo-fontello'
  color='custom' custom_bg='#b5123e' custom_font='#ffffff' av_uid='' id='' c
 ustom_class='' admin_preview_bg='']</p>
CATEGORIES:Recht interdisziplinär
LOCATION:Ausland
GEO:0.000000;0.000000
ORGANIZER;CN="ViFa-Recht":MAILTO:vifa-recht@sbb.spk-berlin.de
URL;VALUE=URI:https://events.intrecht.de/termine/termin/rechtssicherheit-im
 -wandel-der-zeit-2-tagung-des-jungen-netzwerks-rechtsgeschichte/
END:VEVENT
BEGIN:VTIMEZONE
TZID:Europe/Berlin
BEGIN:DAYLIGHT
TZOFFSETFROM:+0100
TZOFFSETTO:+0200
DTSTART:20240331T010000
TZNAME:CEST
END:DAYLIGHT
END:VTIMEZONE
END:VCALENDAR
