BEGIN:VCALENDAR
VERSION:2.0
PRODID:-//Events | FID-Recht//NONSGML Events//EN
CALSCALE:GREGORIAN
X-ORIGINAL-URL:https://events.intrecht.de/termine/
X-WR-CALDESC:Events | FID-Recht - Events
BEGIN:VEVENT
UID:20200626T1057Z-1593169035.3169-EO-1031-1@172.16.200.141
STATUS:CONFIRMED
DTSTAMP:20260423T005131Z
CREATED:20200625T135152Z
LAST-MODIFIED:20200625T135226Z
DTSTART;VALUE=DATE:20210110
DTEND;VALUE=DATE:20210111
SUMMARY: „Rechtskultur“-Themenschwerpunktheft: Widerstand gegen Rechtsverei
 nheitlichung (Call)
DESCRIPTION: Anfang 2021 wird der neunte Band der Zeitschrift „Rechtskultur
  – European Journal of Legal History – Journal européene d’histoire du droi
 t“ erscheinen. Themenschwerpunkt ist „Widerstand gegen Rechtsvereinheitlich
 ung / Against Unification of law / Contre Unification du droit“. Die Heraus
 geber laden Wissenschaftlerinnen und Wissenschaftler aller einschlägigen Fa
 chdisziplinen zur Einreichung von Beiträgen ein. Die Beiträge sollen sich [
 …]
X-ALT-DESC;FMTTYPE=text/html: <p><span style="font-size: 10.0pt\; font-fami
 ly: 'Helvetica'\,sans-serif\;">Anfang 2021 wird der neunte Band der Zeitsch
 rift "Rechtskultur - European Journal of Legal History - Journal européene 
 d'histoire du droit" erscheinen. Themenschwerpunkt ist "Widerstand gegen Re
 chtsvereinheitlichung / Against Unification of law / Contre Unification du 
 droit".</span></p><p><span style="font-size: 10.0pt\; font-family: 'Helveti
 ca'\,sans-serif\;">Die Herausgeber laden Wissenschaftlerinnen und Wissensch
 aftler aller einschlägigen Fachdisziplinen zur Einreichung von Beiträgen ei
 n.</span></p><p><span style="font-size: 10.0pt\; font-family: 'Helvetica'\,
 sans-serif\;">Die Beiträge sollen sich mit Bestrebungen zur Vereinheitlichu
 ng von Recht in Geschichte und Gegenwart aus der Perspektive von Gegenkräft
 en befassen. Sie sollen einen Umfang von 100.000 Zeichen nicht überschreite
 n und bis zum 10. Januar 2021 bei der Redaktion eingehen\, die unter <a>rec
 htskultur@ur.de</a> erreichbar ist.</span></p><p><span style="font-size: 10
 .0pt\; font-family: 'Helvetica'\,sans-serif\;">"Rechtskultur" steht Autoren
  aller einschlägigen Wissenschaftsdisziplinen ohne Ansehen des universitäre
 n Status offen. Kriterien sind allein Themenbezug und Qualität eines Aufsat
 zes. Alle Manuskripte werden einer beiderseits anonymen Begutachtung unterz
 ogen (double-blind peer review).</span></p><p><span style="font-size: 10.0p
 t\; font-family: 'Helvetica'\,sans-serif\;">Weitere Informationen: <a href=
 "http://www.edition-rechtskultur.de/" target="_blank" rel="noopener norefer
 rer">http://www.edition-rechtskultur.de/</a><br />ISSN: 2568-4469</span></p
 ><p> </p><p><a href="https://www.uni-regensburg.de/rechtswissenschaft/buerg
 erliches-recht/loehnig/edition-rechtskultur/zeitschrift-rechtskultur/index.
 html">https://www.uni-regensburg.de/rechtswissenschaft/buergerliches-recht/
 loehnig/edition-rechtskultur/zeitschrift-rechtskultur/index.html</a></p><p>
  </p><p>[av_button label='iCal-Export' link='./feed/eo-events' link_target=
 '' size='small' position='center' label_display='' title_attr='' icon_selec
 t='yes' icon='ue85b' font='entypo-fontello' color='custom' custom_bg='#b512
 3e' custom_font='#ffffff' av_uid='' id='' custom_class='' admin_preview_bg=
 '']</p>
CATEGORIES:Recht interdisziplinär
LOCATION:Online
GEO:0.000000;0.000000
ORGANIZER;CN="ViFa-Recht":MAILTO:vifa-recht@sbb.spk-berlin.de
URL;VALUE=URI:https://events.intrecht.de/termine/termin/rechtskultur-themen
 schwerpunktheft-widerstand-gegen-rechtsvereinheitlichung-call/
END:VEVENT
BEGIN:VTIMEZONE
TZID:Europe/Berlin
BEGIN:STANDARD
TZOFFSETFROM:+0200
TZOFFSETTO:+0100
DTSTART:20201025T010000
TZNAME:CET
END:STANDARD
END:VTIMEZONE
END:VCALENDAR
