BEGIN:VCALENDAR
VERSION:2.0
PRODID:-//Events | FID-Recht//NONSGML Events//EN
CALSCALE:GREGORIAN
X-ORIGINAL-URL:https://events.intrecht.de/termine/
X-WR-CALDESC:Events | FID-Recht - Events
BEGIN:VEVENT
UID:20200603T1418Z-1591193923.3362-EO-587-1@172.16.200.141
STATUS:CONFIRMED
DTSTAMP:20260422T192711Z
CREATED:20241212T142938Z
LAST-MODIFIED:20241212T142938Z
DTSTART;VALUE=DATE:20241217
DTEND;VALUE=DATE:20241218
SUMMARY: Rechtskämpfe im Anthropozän. Eine rechtstheoretische Diskussion de
 r Rechtsverfahren für Klimaschutz (Hybrid Event)
DESCRIPTION: 17.12.2024 / Online und Frankfurt am Main https://contrust.uni
 -frankfurt.de/event/rechtskaempfe-im-anthropozaen-eine-rechtstheoretische-d
 iskussion-der-rechtsverfahren-fuer-klimaschutz/
X-ALT-DESC;FMTTYPE=text/html: <p>17.12.2024 / Online und Frankfurt am Main<
 /p><p><a href="https://contrust.uni-frankfurt.de/event/rechtskaempfe-im-ant
 hropozaen-eine-rechtstheoretische-diskussion-der-rechtsverfahren-fuer-klima
 schutz/">https://contrust.uni-frankfurt.de/event/rechtskaempfe-im-anthropoz
 aen-eine-rechtstheoretische-diskussion-der-rechtsverfahren-fuer-klimaschutz
 /</a></p><p>[av_button label='iCal-Export' link='./feed/eo-events' link_tar
 get='' size='small' position='center' label_display='' title_attr='' icon_s
 elect='yes' icon='ue85b' font='entypo-fontello' color='custom' custom_bg='#
 b5123e' custom_font='#ffffff' av_uid='' id='' custom_class='' admin_preview
 _bg='']</p>
CATEGORIES:Recht interdisziplinär
LOCATION:Hybrid
GEO:0.000000;0.000000
ORGANIZER;CN="ViFa-Recht":MAILTO:vifa-recht@sbb.spk-berlin.de
URL;VALUE=URI:https://events.intrecht.de/termine/termin/rechtskaempfe-im-an
 thropozaen-eine-rechtstheoretische-diskussion-der-rechtsverfahren-fuer-klim
 aschutz-hybrid-event/
END:VEVENT
BEGIN:VTIMEZONE
TZID:Europe/Berlin
BEGIN:STANDARD
TZOFFSETFROM:+0200
TZOFFSETTO:+0100
DTSTART:20241027T010000
TZNAME:CET
END:STANDARD
END:VTIMEZONE
END:VCALENDAR
